BEGIN:VCALENDAR
VERSION:2.0
PRODID:-//Telegraph District - ECPv6.11.2//NONSGML v1.0//EN
CALSCALE:GREGORIAN
METHOD:PUBLISH
X-ORIGINAL-URL:https://telegraphdistrict.com
X-WR-CALDESC:Events for Telegraph District
REFRESH-INTERVAL;VALUE=DURATION:PT1H
X-Robots-Tag:noindex
X-PUBLISHED-TTL:PT1H
BEGIN:VTIMEZONE
TZID:America/Chicago
BEGIN:DAYLIGHT
TZOFFSETFROM:-0600
TZOFFSETTO:-0500
TZNAME:CDT
DTSTART:20240310T080000
END:DAYLIGHT
BEGIN:STANDARD
TZOFFSETFROM:-0500
TZOFFSETTO:-0600
TZNAME:CST
DTSTART:20241103T070000
END:STANDARD
END:VTIMEZONE
BEGIN:VEVENT
DTSTART;TZID=America/Chicago:20241001T173000
DTEND;TZID=America/Chicago:20241001T210000
DTSTAMP:20260425T172631
CREATED:20240923T193816Z
LAST-MODIFIED:20240923T193816Z
UID:10000699-1727803800-1727816400@telegraphdistrict.com
SUMMARY:Family Night @ Off Leash Dog Bar
DESCRIPTION:Bring the whole pack to or location in the Telegraph District every Tuesday for a fun night out at Off Leash!  \nWe believe that teaching kids how to interact with dogs in a fun and safe way is an important life skill to have.  \nCome create some lasting memories with us in downtown Lincoln! \n👨‍👩‍👧‍👦 Everyone under the age of 19 must be with a parent or guardian\n🚸 Please stay close\, ensuring your kids are within immediate presence.\n🏃‍♂️ No running\, teasing\, taunting\, or pulling on dogs’ ears or tails\n🤚 Kids\, don’t forget to ask owners before giving pets to other pups
URL:https://telegraphdistrict.com/event/family-night-off-leash-dog-bar/
LOCATION:Off Leash Dog Bar\, 1975 M St\, Lincoln\, NE\, 68510\, United States
END:VEVENT
END:VCALENDAR