BEGIN:VCALENDAR
VERSION:2.0
PRODID:-//Telegraph District - ECPv6.11.2//NONSGML v1.0//EN
CALSCALE:GREGORIAN
METHOD:PUBLISH
X-WR-CALNAME:Telegraph District
X-ORIGINAL-URL:https://telegraphdistrict.com
X-WR-CALDESC:Events for Telegraph District
REFRESH-INTERVAL;VALUE=DURATION:PT1H
X-Robots-Tag:noindex
X-PUBLISHED-TTL:PT1H
BEGIN:VTIMEZONE
TZID:America/Chicago
BEGIN:DAYLIGHT
TZOFFSETFROM:-0600
TZOFFSETTO:-0500
TZNAME:CDT
DTSTART:20240310T080000
END:DAYLIGHT
BEGIN:STANDARD
TZOFFSETFROM:-0500
TZOFFSETTO:-0600
TZNAME:CST
DTSTART:20241103T070000
END:STANDARD
END:VTIMEZONE
BEGIN:VEVENT
DTSTART;TZID=America/Chicago:20241005T110000
DTEND;TZID=America/Chicago:20241005T140000
DTSTAMP:20260425T124702
CREATED:20240923T194333Z
LAST-MODIFIED:20240923T194333Z
UID:10000702-1728126000-1728136800@telegraphdistrict.com
SUMMARY:Chunky Knit Blanket Workshop
DESCRIPTION:Learn how to create a chunky knit blanket in this fun and interactive workshop at AR Workshop in downtown Lincoln’s Telegraph District! \nCreate a Chunky Knit Blanket with step-by-step instruction. No knitting experience or tools needed! \nYou will choose your yarn colors upon your arrival. We offer an exclusive selection of yarn from our private label with Lion Brand Yarn. \nYour 3-hour DIY experience starts at $99 with our standard Chunky Knit Blanket (approx. 40″x50″ throw). Herringbone and Cable Knit styles are available for a more advanced experience. \nWe invite you to bring your favorite drink to fuel your creativity.
URL:https://telegraphdistrict.com/event/chunky-knit-blanket-workshop/
LOCATION:AR Workshop\, 2077 N St\, Lincoln\, NE\, United States
END:VEVENT
BEGIN:VEVENT
DTSTART;TZID=America/Chicago:20241005T173000
DTEND;TZID=America/Chicago:20241005T210000
DTSTAMP:20260425T124702
CREATED:20240923T194424Z
LAST-MODIFIED:20240923T194424Z
UID:10000703-1728149400-1728162000@telegraphdistrict.com
SUMMARY:Acoustic Saturday @ Saro Cider
DESCRIPTION:Your weekend deserves some great drinks and sweet acoustic tunes.  \nLocated in the Telegraph District in downtown Lincoln\, Nebraska\, Saro Cider always serves up a large selection of the area’s best locally-made ciders.  \nBut on Saturday nights\, it’s offering refreshing acoustic music from local artists like Samuel Butterfield\, Rich Confer\, Tom Ficke\, Caroline Koen\, Denise Howe\, Mark Irvin\, and David Boye.
URL:https://telegraphdistrict.com/event/acoustic-saturday-saro-cider/
LOCATION:Saro Cider\, 1746 N St\, Lincoln\, NE\, United States
END:VEVENT
END:VCALENDAR