BEGIN:VCALENDAR
VERSION:2.0
PRODID:-//Telegraph District - ECPv6.11.2//NONSGML v1.0//EN
CALSCALE:GREGORIAN
METHOD:PUBLISH
X-ORIGINAL-URL:https://telegraphdistrict.com
X-WR-CALDESC:Events for Telegraph District
REFRESH-INTERVAL;VALUE=DURATION:PT1H
X-Robots-Tag:noindex
X-PUBLISHED-TTL:PT1H
BEGIN:VTIMEZONE
TZID:America/Chicago
BEGIN:DAYLIGHT
TZOFFSETFROM:-0600
TZOFFSETTO:-0500
TZNAME:CDT
DTSTART:20240310T080000
END:DAYLIGHT
BEGIN:STANDARD
TZOFFSETFROM:-0500
TZOFFSETTO:-0600
TZNAME:CST
DTSTART:20241103T070000
END:STANDARD
END:VTIMEZONE
BEGIN:VEVENT
DTSTART;TZID=America/Chicago:20241027T150000
DTEND;TZID=America/Chicago:20241027T170000
DTSTAMP:20260425T094418
CREATED:20240830T132500Z
LAST-MODIFIED:20240830T132500Z
UID:10000697-1730041200-1730048400@telegraphdistrict.com
SUMMARY:Schemmer Trunk or Treat
DESCRIPTION:Schemmers inaugural Trunk or Treat. Candy\, costumes\, and games.
URL:https://telegraphdistrict.com/event/schemmer-trunk-or-treat/
LOCATION:333 S 21st St\, #102 Lincoln\, NE 68510 North Parking Lot\, 333 S 21st St\, #102\, Lincoln\, NE\, 68510\, United States
END:VEVENT
END:VCALENDAR