BEGIN:VCALENDAR
VERSION:2.0
PRODID:-//Telegraph District - ECPv6.11.2//NONSGML v1.0//EN
CALSCALE:GREGORIAN
METHOD:PUBLISH
X-ORIGINAL-URL:https://telegraphdistrict.com
X-WR-CALDESC:Events for Telegraph District
REFRESH-INTERVAL;VALUE=DURATION:PT1H
X-Robots-Tag:noindex
X-PUBLISHED-TTL:PT1H
BEGIN:VTIMEZONE
TZID:America/Chicago
BEGIN:DAYLIGHT
TZOFFSETFROM:-0600
TZOFFSETTO:-0500
TZNAME:CDT
DTSTART:20240310T080000
END:DAYLIGHT
BEGIN:STANDARD
TZOFFSETFROM:-0500
TZOFFSETTO:-0600
TZNAME:CST
DTSTART:20241103T070000
END:STANDARD
END:VTIMEZONE
BEGIN:VEVENT
DTSTART;TZID=America/Chicago:20241215T130000
DTEND;TZID=America/Chicago:20241215T160000
DTSTAMP:20260419T001417
CREATED:20241122T203243Z
LAST-MODIFIED:20241122T203243Z
UID:10000728-1734267600-1734278400@telegraphdistrict.com
SUMMARY:AR Workshop Birthday Celebration
DESCRIPTION:Celebrate our 1 year Birthday and Join us for the BIGGEST pARty in downtown Lincoln’s Telegraph District!!! \nThere will be:\n-Free Art Make and Takes\n-Snacks and Drinks\n-A Grand Prize\n-Raffle Baskets (put your name in all November long) \nRegister online for the Grand Prize (must be present to win)
URL:https://telegraphdistrict.com/event/ar-workshop-birthday-celebration/
LOCATION:AR Workshop\, 2077 N St\, Lincoln\, NE\, United States
END:VEVENT
BEGIN:VEVENT
DTSTART;TZID=America/Chicago:20241215T180000
DTEND;TZID=America/Chicago:20241215T200000
DTSTAMP:20260419T001417
CREATED:20241210T221837Z
LAST-MODIFIED:20241210T221837Z
UID:10000729-1734285600-1734292800@telegraphdistrict.com
SUMMARY:First Friday @ Constellation Studios
DESCRIPTION:In this 3rd iteration of Stellar Small Prints\, Constellation Studios is featuring artists who have impacted the print world through their small format works. Join us in the Telegraph District for this traditional and historical aspect of the intimate scale of the printed image that enables the sharing of knowledge\, personal insights\, and iconic messages from afar. Look closely again for deeply felt care in the artists’ crafting of impressions that condense visual mastery and visionary possibilities.  \nBrian D. Cohen\, Kennebunk\, Maine\nBrian Curling\, Dresden\, Germany\nAnne Desmet\, London\, England\nRon Fundingsland\, Bayfield\, Colorado\nAnita Hunt\, Colrain\, Massachusetts\nCarrie Phillips-Kieser\, Hammonds Plains\, Nova Scotia\, Canada\nRobin Sherin\, New York\, New York \nSelections from the Constellation Studios collection will also be shown.
URL:https://telegraphdistrict.com/event/first-friday-constellation-studios/
LOCATION:Constellation Studios\, 2055 O St.\, Lincoln\, NE\, 68510\, United States
END:VEVENT
END:VCALENDAR