BEGIN:VCALENDAR
VERSION:2.0
PRODID:-//Telegraph District - ECPv6.11.2//NONSGML v1.0//EN
CALSCALE:GREGORIAN
METHOD:PUBLISH
X-WR-CALNAME:Telegraph District
X-ORIGINAL-URL:https://telegraphdistrict.com
X-WR-CALDESC:Events for Telegraph District
REFRESH-INTERVAL;VALUE=DURATION:PT1H
X-Robots-Tag:noindex
X-PUBLISHED-TTL:PT1H
BEGIN:VTIMEZONE
TZID:America/Chicago
BEGIN:DAYLIGHT
TZOFFSETFROM:-0600
TZOFFSETTO:-0500
TZNAME:CDT
DTSTART:20250309T080000
END:DAYLIGHT
BEGIN:STANDARD
TZOFFSETFROM:-0500
TZOFFSETTO:-0600
TZNAME:CST
DTSTART:20251102T070000
END:STANDARD
END:VTIMEZONE
BEGIN:VEVENT
DTSTART;TZID=America/Chicago:20250228T170000
DTEND;TZID=America/Chicago:20250228T210000
DTSTAMP:20260421T144427
CREATED:20250207T192614Z
LAST-MODIFIED:20250207T192614Z
UID:10000896-1740762000-1740776400@telegraphdistrict.com
SUMMARY:Friday Night Pizza & Pints
DESCRIPTION:Join us every Friday night in Lincoln’s Telegraph District for a rotating monthly menu of creative pizzas and small bites. Live local music and good vibes!
URL:https://telegraphdistrict.com/event/friday-night-pizza-pints/2025-02-28/
LOCATION:Hub Cafe\, 250 N 21st St\, Lincoln\, NE\, United States
END:VEVENT
BEGIN:VEVENT
DTSTART;TZID=America/Chicago:20250228T173000
DTEND;TZID=America/Chicago:20250228T210000
DTSTAMP:20260421T144427
CREATED:20250110T212743Z
LAST-MODIFIED:20250204T165234Z
UID:10000745-1740763800-1740776400@telegraphdistrict.com
SUMMARY:Acoustic Friday @ Saro Cider
DESCRIPTION:Start your weekend with live music\, good friends\, and great cider.  \nLocated in the Telegraph District in downtown Lincoln\, Nebraska\, Saro Cider always serves up a large selection of the area’s best locally-made ciders.  \nBut on Friday nights\, it’s offering refreshing acoustic music from local artists like Matt Briggs\, Samuel Butterfield\, Rich Confer\, Tom Ficke\, Caroline Koen\, Denise Howe\, Mark Irvin\, and David Boye.
URL:https://telegraphdistrict.com/event/acoustic-friday-saro-cider-2/2025-02-28/
LOCATION:Saro Cider\, 1746 N St\, Lincoln\, NE\, United States
END:VEVENT
BEGIN:VEVENT
DTSTART;TZID=America/Chicago:20250228T180000
DTEND;TZID=America/Chicago:20250228T210000
DTSTAMP:20260421T144427
CREATED:20250219T213957Z
LAST-MODIFIED:20250219T213957Z
UID:10001159-1740765600-1740776400@telegraphdistrict.com
SUMMARY:Textured Art Framed Workshop
DESCRIPTION:Join us for this elevated DIY workshop in downtown Lincoln’s Telegraph District\, where you can experience our Textured ARt for a dimensional take on our classic framed sign designs. \nChoose the design you like\, then let us show you how to take it to a whole new level. Plus\, you can choose from our wide array of paint colors and our non-toxic stains to make this decor piece one-of-a-kind.
URL:https://telegraphdistrict.com/event/textured-art-framed-workshop/
LOCATION:AR Workshop\, 2077 N St\, Lincoln\, NE\, United States
END:VEVENT
END:VCALENDAR