BEGIN:VCALENDAR
VERSION:2.0
PRODID:-//Telegraph District - ECPv6.11.2//NONSGML v1.0//EN
CALSCALE:GREGORIAN
METHOD:PUBLISH
X-ORIGINAL-URL:https://telegraphdistrict.com
X-WR-CALDESC:Events for Telegraph District
REFRESH-INTERVAL;VALUE=DURATION:PT1H
X-Robots-Tag:noindex
X-PUBLISHED-TTL:PT1H
BEGIN:VTIMEZONE
TZID:America/Chicago
BEGIN:DAYLIGHT
TZOFFSETFROM:-0600
TZOFFSETTO:-0500
TZNAME:CDT
DTSTART:20250309T080000
END:DAYLIGHT
BEGIN:STANDARD
TZOFFSETFROM:-0500
TZOFFSETTO:-0600
TZNAME:CST
DTSTART:20251102T070000
END:STANDARD
END:VTIMEZONE
BEGIN:VEVENT
DTSTART;TZID=America/Chicago:20250621T150000
DTEND;TZID=America/Chicago:20250621T190000
DTSTAMP:20260425T083139
CREATED:20250423T153959Z
LAST-MODIFIED:20250423T153959Z
UID:10001385-1750518000-1750532400@telegraphdistrict.com
SUMMARY:2025 Telegraph District Pup Crawl
DESCRIPTION:Join us for the 2025 Pup Crawl in the Telegraph District!  \nMeet dogs available for adoption from Brave Animal Rescue\, Dolly’s Legacy Animal Rescue\, and Nebraska No Kill Canine Rescue.  \nParticipating locations include Off-Leash Dog Bar\, The Post\, Code Beer Company\, Craft Axe Throwing\, and Saro Cider.
URL:https://telegraphdistrict.com/event/2025-telegraph-district-pup-crawl/
LOCATION:Off Leash Dog Bar\, 1975 M St\, Lincoln\, NE\, 68510\, United States
END:VEVENT
END:VCALENDAR