BEGIN:VCALENDAR
VERSION:2.0
PRODID:-//Telegraph District - ECPv6.11.2//NONSGML v1.0//EN
CALSCALE:GREGORIAN
METHOD:PUBLISH
X-ORIGINAL-URL:https://telegraphdistrict.com
X-WR-CALDESC:Events for Telegraph District
REFRESH-INTERVAL;VALUE=DURATION:PT1H
X-Robots-Tag:noindex
X-PUBLISHED-TTL:PT1H
BEGIN:VTIMEZONE
TZID:America/Chicago
BEGIN:DAYLIGHT
TZOFFSETFROM:-0600
TZOFFSETTO:-0500
TZNAME:CDT
DTSTART:20260308T080000
END:DAYLIGHT
BEGIN:STANDARD
TZOFFSETFROM:-0500
TZOFFSETTO:-0600
TZNAME:CST
DTSTART:20261101T070000
END:STANDARD
END:VTIMEZONE
BEGIN:VEVENT
DTSTART;VALUE=DATE:20260208
DTEND;VALUE=DATE:20260215
DTSTAMP:20260424T143440
CREATED:20260204T171119Z
LAST-MODIFIED:20260204T172359Z
UID:10001910-1770508800-1771113599@telegraphdistrict.com
SUMMARY:Behind the Velvet Curtain
DESCRIPTION:Mark your calendars — Things get a little unholy Behind the Velvet Curtain. \nFeb 8–14 we’re serving sultry cocktails\, a limited menu\, and surprises meant to raise eyebrows. \n🔥 2/14 open late with live music. \nPre-dinner temptation. Post-dinner indulgence. No shame\, just vibes.
URL:https://telegraphdistrict.com/event/behind-the-velvet-curtain/
LOCATION:Saro Cider\, 1746 N St\, Lincoln\, NE\, United States
END:VEVENT
BEGIN:VEVENT
DTSTART;TZID=America/Chicago:20260214T110000
DTEND;TZID=America/Chicago:20260214T150000
DTSTAMP:20260424T143440
CREATED:20260204T172522Z
LAST-MODIFIED:20260204T172522Z
UID:10002330-1771066800-1771081200@telegraphdistrict.com
SUMMARY:Posted and Pretty Girls' Brunch: Galentine Edition
DESCRIPTION:What You Get: \n🍽️ Full brunch\n✨ Upscale casual atmosphere – dress cute\, feel amazing\n📸 Photo-worthy moments throughout the venue\n🎵 Neo-soul\, R&B\, and feel-good brunch vibes\n☕ Coffee\, tea\, and juice included\n💰 $25 brunch only | $45 brunch + bottomless mimosas\n👗 Dress Code: Posted and Pretty (brunch chic)\n🔞 Ages 21+ only \nWhy Galentine’s at The Post? Because the real love story is celebrating the women who make life better.  \nCome eat\, drink\, laugh\, and toast to friendship\, community\, and YOU.
URL:https://telegraphdistrict.com/event/posted-and-pretty-girls-brunch-galentine-edition/
LOCATION:The Post\, 2001 N St.\, Lincoln\, NE\, United States
END:VEVENT
BEGIN:VEVENT
DTSTART;TZID=America/Chicago:20260214T170000
DTEND;TZID=America/Chicago:20260214T210000
DTSTAMP:20260424T143440
CREATED:20260204T171615Z
LAST-MODIFIED:20260204T171615Z
UID:10001911-1771088400-1771102800@telegraphdistrict.com
SUMMARY:Valentine's Day at Hub Cafe
DESCRIPTION:Join us for Valentine’s Day at the Hub Cafe for a locally-sourced chef-driven multi-course meal!  \nAdvanced reservations required.
URL:https://telegraphdistrict.com/event/valentines-day-at-hub-cafe/
LOCATION:Hub Cafe\, 250 N 21st St\, Lincoln\, NE\, United States
END:VEVENT
END:VCALENDAR