BEGIN:VCALENDAR
VERSION:2.0
PRODID:-//Telegraph District - ECPv6.11.2//NONSGML v1.0//EN
CALSCALE:GREGORIAN
METHOD:PUBLISH
X-WR-CALNAME:Telegraph District
X-ORIGINAL-URL:https://telegraphdistrict.com
X-WR-CALDESC:Events for Telegraph District
REFRESH-INTERVAL;VALUE=DURATION:PT1H
X-Robots-Tag:noindex
X-PUBLISHED-TTL:PT1H
BEGIN:VTIMEZONE
TZID:America/Chicago
BEGIN:DAYLIGHT
TZOFFSETFROM:-0600
TZOFFSETTO:-0500
TZNAME:CDT
DTSTART:20240310T080000
END:DAYLIGHT
BEGIN:STANDARD
TZOFFSETFROM:-0500
TZOFFSETTO:-0600
TZNAME:CST
DTSTART:20241103T070000
END:STANDARD
END:VTIMEZONE
BEGIN:VEVENT
DTSTART;TZID=America/Chicago:20241101T170000
DTEND;TZID=America/Chicago:20241101T170000
DTSTAMP:20260424T091655
CREATED:20241101T163637Z
LAST-MODIFIED:20241101T163637Z
UID:10000716-1730480400-1730480400@telegraphdistrict.com
SUMMARY:First Friday feat. Heimwerker Haus
DESCRIPTION:November’s First Friday artwork is from Heimwerker Haus of Bennet\, NE \nJoin us in downtown Lincoln’s Telegraph District for a wide variety of paintings\, wood work\, seasonal decor\, and more.  \nCheck out the show during the whole month of November and pick out something to add to your home!
URL:https://telegraphdistrict.com/event/first-friday-feat-heimwerker-haus/
LOCATION:CODE Beer\, 200 S Antelope Valley Pkwy\, Lincoln\, NE\, 68510\, United States
END:VEVENT
BEGIN:VEVENT
DTSTART;TZID=America/Chicago:20241102T113000
DTEND;TZID=America/Chicago:20241102T113000
DTSTAMP:20260424T091655
CREATED:20241101T164213Z
LAST-MODIFIED:20241101T164213Z
UID:10000717-1730547000-1730547000@telegraphdistrict.com
SUMMARY:Huskers Pre-Game w/ Saro Cider
DESCRIPTION:Join our friends from Telegraph District’s Saro Cider for some pre-game revelry before the Huskers take on the UCLA Bruins.  \nLet us thank you for your support of Saro with food\, drinks\, fun\, and prizes.
URL:https://telegraphdistrict.com/event/huskers-pre-game-w-saro-cider/
LOCATION:Sheldon Museum of Art\, 12th and R St.\, Lincoln\, NE\, United States
END:VEVENT
BEGIN:VEVENT
DTSTART;TZID=America/Chicago:20241103T120000
DTEND;TZID=America/Chicago:20241103T200000
DTSTAMP:20260424T091655
CREATED:20241101T164336Z
LAST-MODIFIED:20241101T164336Z
UID:10000718-1730635200-1730664000@telegraphdistrict.com
SUMMARY:Family Day @ Off Leash Dog Bar
DESCRIPTION:Bring the whole pack to our location in the Telegraph District every Sunday for a fun day at Off Leash!  \nWe believe that teaching kids how to interact with dogs in a fun and safe way is an important life skill to have.  \nCome create some lasting memories with us in downtown Lincoln! \n👨‍👩‍👧‍👦 Everyone under the age of 19 must be with a parent or guardian\n🚸 Please stay close\, ensuring your kids are within immediate presence.\n🏃‍♂️ No running\, teasing\, taunting\, or pulling on dogs’ ears or tails\n🤚 Kids\, don’t forget to ask owners before giving pets to other pups
URL:https://telegraphdistrict.com/event/family-day-off-leash-dog-bar/
LOCATION:Off Leash Dog Bar\, 1975 M St\, Lincoln\, NE\, 68510\, United States
END:VEVENT
BEGIN:VEVENT
DTSTART;TZID=America/Chicago:20241108T180000
DTEND;TZID=America/Chicago:20241108T210000
DTSTAMP:20260424T091655
CREATED:20241101T164538Z
LAST-MODIFIED:20241101T203859Z
UID:10000720-1731088800-1731099600@telegraphdistrict.com
SUMMARY:Swap Art Framed Sign Date Night
DESCRIPTION:Join us for this special Date Night DIY workshop! \nSwitch up your Date Night experience in downtown Lincoln’s Telegraph District\, with Swap ARt! \nEnjoy creating this fun decor piece together that you can swap our seasonally or for fresh look! \nYour DIY experience starts at $99 for one 18″x18″ framed signs and two 10″x10″ swappable signs. \nFor this date night workshop\, you and your date can register for Swap ARt collection together. \nWe invite you to bring your favorite food or drink to fuel your creativity.
URL:https://telegraphdistrict.com/event/swap-art-framed-sign-date-night/
LOCATION:AR Workshop\, 2077 N St\, Lincoln\, NE\, United States
CATEGORIES:Featured
END:VEVENT
BEGIN:VEVENT
DTSTART;TZID=America/Chicago:20241113T180000
DTEND;TZID=America/Chicago:20241113T200000
DTSTAMP:20260424T091655
CREATED:20241101T164454Z
LAST-MODIFIED:20241101T164454Z
UID:10000719-1731520800-1731528000@telegraphdistrict.com
SUMMARY:Candle Pouring + Scent Mixology
DESCRIPTION:Join us for this scent-sational DIY workshop at AR Workshop in downtown Lincoln’s Telegraph District. \nCreate one-of-a-kind candle scents for your home or as the perfect hand-crafted gift.\nEnjoy our classic candle style as well as options to upgrade and add-on during your visit.\n[The more you pour\, the more you save!] \n2 Candles for $50 and 3 Candles for $65\nwith additional upgrades available in the workshop.\nWe invite you to bring your favorite food or drink to fuel your creativity. \nNOTE: Candles require 24 hours to set and and may require a follow up pick up time as indicated by your instructor.
URL:https://telegraphdistrict.com/event/candle-pouring-scent-mixology/
LOCATION:AR Workshop\, 2077 N St\, Lincoln\, NE\, United States
END:VEVENT
BEGIN:VEVENT
DTSTART;TZID=America/Chicago:20241120T180000
DTEND;TZID=America/Chicago:20241120T200000
DTSTAMP:20260424T091655
CREATED:20241101T164631Z
LAST-MODIFIED:20241101T164631Z
UID:10000721-1732125600-1732132800@telegraphdistrict.com
SUMMARY:Craft Bar
DESCRIPTION:Shop\, Create & Celebrate Today. \nJoin us for an impromptu crafting session at The Craft Bar at AR Workshop in downtown Lincoln’s Telegraph District! \nEnjoy a variety of ready-to-make DIY projects perfect for all ages and skill levels. \nNo Registration required (but is recommended!)—just walk in\, choose your project\, and get started. \nOur friendly staff is here to assist you with any questions or guidance you may need. \nWe invite you to bring your favorite food or drink to enhance your crafting experience. \nFeatured Projects:\nHoliday Mini’s
URL:https://telegraphdistrict.com/event/craft-bar/
LOCATION:AR Workshop\, 2077 N St\, Lincoln\, NE\, United States
END:VEVENT
BEGIN:VEVENT
DTSTART;TZID=America/Chicago:20241121T183000
DTEND;TZID=America/Chicago:20241121T183000
DTSTAMP:20260424T091655
CREATED:20241122T202721Z
LAST-MODIFIED:20241122T202721Z
UID:10000724-1732213800-1732213800@telegraphdistrict.com
SUMMARY:Off Leash Book Club
DESCRIPTION:📚 Join Us for Book Club at Off Leash! 🐾 \nLove dogs and a good book? Come hang out with fellow book lovers (and their pups!) at Off Leash in downtown Lincoln’s Telegraph District! \nNovember’s read will be His & Hers by Alice Feeney. \nPups optional and not required! Join us for a night of great conversation and dog-friendly vibes. Can’t wait to see you there! 📖🐶 \nThis event is open to all dogs\, their humans\, and dog & book lovers!
URL:https://telegraphdistrict.com/event/off-leash-book-club/
LOCATION:Off Leash Dog Bar\, 1975 M St\, Lincoln\, NE\, 68510\, United States
END:VEVENT
BEGIN:VEVENT
DTSTART;TZID=America/Chicago:20241130T130000
DTEND;TZID=America/Chicago:20241130T130000
DTSTAMP:20260424T091655
CREATED:20241122T202853Z
LAST-MODIFIED:20241122T202853Z
UID:10000725-1732971600-1732971600@telegraphdistrict.com
SUMMARY:Holiday Ornaments - 1-Hour Experience
DESCRIPTION:Join us for this special Holi-DIY family workshop in downtown Lincoln’s Telegraph District! \nCreate a collection of Holiday Wood Ornaments at this festive and family-friendly event! \nEach individual participant will need to be registered to take part of the fun. \nAll registered guests will make their own set of 6 ornaments (no sharing allowed\, thank you!) \nWhile you are here\, enjoy cookies and hot cocoa and check out our holiday home decor\, jewelry\, accessories and last-minute Christmas gift ideas!
URL:https://telegraphdistrict.com/event/holiday-ornaments-1-hour-experience/
LOCATION:AR Workshop\, 2077 N St\, Lincoln\, NE\, United States
END:VEVENT
END:VCALENDAR