BEGIN:VCALENDAR
VERSION:2.0
PRODID:-//Telegraph District - ECPv6.11.2//NONSGML v1.0//EN
CALSCALE:GREGORIAN
METHOD:PUBLISH
X-WR-CALNAME:Telegraph District
X-ORIGINAL-URL:https://telegraphdistrict.com
X-WR-CALDESC:Events for Telegraph District
REFRESH-INTERVAL;VALUE=DURATION:PT1H
X-Robots-Tag:noindex
X-PUBLISHED-TTL:PT1H
BEGIN:VTIMEZONE
TZID:America/Chicago
BEGIN:DAYLIGHT
TZOFFSETFROM:-0600
TZOFFSETTO:-0500
TZNAME:CDT
DTSTART:20240310T080000
END:DAYLIGHT
BEGIN:STANDARD
TZOFFSETFROM:-0500
TZOFFSETTO:-0600
TZNAME:CST
DTSTART:20241103T070000
END:STANDARD
END:VTIMEZONE
BEGIN:VEVENT
DTSTART;TZID=America/Chicago:20241201T130000
DTEND;TZID=America/Chicago:20241201T130000
DTSTAMP:20260419T100218
CREATED:20241122T203000Z
LAST-MODIFIED:20241122T203000Z
UID:10000726-1733058000-1733058000@telegraphdistrict.com
SUMMARY:Holiday Scenes Workshop (Family Friendly)
DESCRIPTION:Make it a fun family day and create some beautiful holiday scenes.  \nYou can choose your design and colors. Instructors will be available for directions and to help make your experience a great one! \nFun holiday treats and hot cocoa and coffee will also be available — all in downtown Lincoln’s Telegraph District.
URL:https://telegraphdistrict.com/event/holiday-scenes-workshop-family-friendly/
LOCATION:AR Workshop\, 2077 N St\, Lincoln\, NE\, United States
END:VEVENT
BEGIN:VEVENT
DTSTART;TZID=America/Chicago:20241205T170000
DTEND;TZID=America/Chicago:20241205T220000
DTSTAMP:20260419T100218
CREATED:20241122T203137Z
LAST-MODIFIED:20241210T215926Z
UID:10000727-1733418000-1733436000@telegraphdistrict.com
SUMMARY:The Holiday Hub
DESCRIPTION:Get ready for a season of festive cheer at The Holiday Hub\, a magical holiday pop-up bar at the Jayne Snyder Trails Center\, 250 N. 21st St. (south side of the Hub Café building)! This unique\, kitschy wonderland will welcome guests every Thursday\, Friday\, and Saturday night from 5:00 p.m. to 10:00 p.m.\, Dec. 5 through Jan. 4. With limited seating available\, reservations are highly encouraged to ensure your place at Lincoln’s coziest holiday destination. Reservations can be made at https://bit.ly/holidayhub2024res \nThe Holiday Hub in downtown Lincoln’s Telegraph District promises an unforgettable evening of locally sourced\, chef-driven fare provided by the Hub Cafe. On Thursdays and Saturdays\, visitors can enjoy selections from a curated small bites menu\, while Fridays will feature the popular Pizza & Pints Night pizza menu\, serving up house-made pizzas that highlight the best of local ingredients. Pair your food with a festive seasonal cocktail or choose from a variety of beer and wine to complete your holiday experience.
URL:https://telegraphdistrict.com/event/the-holiday-hub/
LOCATION:Jayne Snyder Trail Center\, 228 N. 21st St.\, Lincoln\, NE\, 68503\, United States
END:VEVENT
BEGIN:VEVENT
DTSTART;TZID=America/Chicago:20241213T190000
DTEND;TZID=America/Chicago:20241213T190000
DTSTAMP:20260419T100218
CREATED:20241101T164722Z
LAST-MODIFIED:20241122T203258Z
UID:10000722-1734116400-1734116400@telegraphdistrict.com
SUMMARY:Drinking Like It's the 80's and 90's Party
DESCRIPTION:Join us for a night of nostalgia as part of our week-long birthday celebration at The Post in Downtown Lincoln’s Telegraph District!  \nWe’re throwing it back to the 80’s and 90’s with infamous drinks from those decades. 🍹🍸 \nSpecials:\n-All drinks are $8.00 or $9.00 all night! 💲\n-5% off your tab if you dress in your best 80’s or 90’s attire! 🕺💃\n-Lincoln’s only 100% vinyl disc jockey will spinning all your favorite 80s and 90s hits! 🎶 \nSee you there in your brightest neon! 🥳
URL:https://telegraphdistrict.com/event/drinking-like-its-the-80s-and-90s-party/
LOCATION:The Post\, 2001 N St.\, Lincoln\, NE\, United States
CATEGORIES:Featured
END:VEVENT
BEGIN:VEVENT
DTSTART;TZID=America/Chicago:20241214T120000
DTEND;TZID=America/Chicago:20241214T120000
DTSTAMP:20260419T100218
CREATED:20241101T164825Z
LAST-MODIFIED:20241101T164825Z
UID:10000723-1734177600-1734177600@telegraphdistrict.com
SUMMARY:12 Hours of Christmas Singing
DESCRIPTION:As part of our week-long birthday celebration in downtown Lincoln’s Telegraph District\, we are excited to invite you to our festive event\, “12 Hours of Christmas Singing”! We are calling all singers to help us fill 12 hours of joyful music! The event will run from 12 PM until 12 AM. Whether you’re a seasoned performer or just love to sing\, we’d love to have you.  \nCome spread the holiday cheer! \nHow to Sign Up:\n-Choose your preferred time slot(s).\n-Register your details with Jesse at 402.570.7977\n-Get ready to sing your heart out! \nLet’s make this holiday season unforgettable with music and merriment. Sign up now and be a part of this magical event! \nSign up for a time slot now and make this a magical day to remember. \nDon’t miss out—reserve your spot today! 🎶
URL:https://telegraphdistrict.com/event/12-hours-of-christmas-singing/
LOCATION:The Post\, 2001 N St.\, Lincoln\, NE\, United States
END:VEVENT
BEGIN:VEVENT
DTSTART;TZID=America/Chicago:20241215T130000
DTEND;TZID=America/Chicago:20241215T160000
DTSTAMP:20260419T100218
CREATED:20241122T203243Z
LAST-MODIFIED:20241122T203243Z
UID:10000728-1734267600-1734278400@telegraphdistrict.com
SUMMARY:AR Workshop Birthday Celebration
DESCRIPTION:Celebrate our 1 year Birthday and Join us for the BIGGEST pARty in downtown Lincoln’s Telegraph District!!! \nThere will be:\n-Free Art Make and Takes\n-Snacks and Drinks\n-A Grand Prize\n-Raffle Baskets (put your name in all November long) \nRegister online for the Grand Prize (must be present to win)
URL:https://telegraphdistrict.com/event/ar-workshop-birthday-celebration/
LOCATION:AR Workshop\, 2077 N St\, Lincoln\, NE\, United States
END:VEVENT
BEGIN:VEVENT
DTSTART;TZID=America/Chicago:20241215T180000
DTEND;TZID=America/Chicago:20241215T200000
DTSTAMP:20260419T100218
CREATED:20241210T221837Z
LAST-MODIFIED:20241210T221837Z
UID:10000729-1734285600-1734292800@telegraphdistrict.com
SUMMARY:First Friday @ Constellation Studios
DESCRIPTION:In this 3rd iteration of Stellar Small Prints\, Constellation Studios is featuring artists who have impacted the print world through their small format works. Join us in the Telegraph District for this traditional and historical aspect of the intimate scale of the printed image that enables the sharing of knowledge\, personal insights\, and iconic messages from afar. Look closely again for deeply felt care in the artists’ crafting of impressions that condense visual mastery and visionary possibilities.  \nBrian D. Cohen\, Kennebunk\, Maine\nBrian Curling\, Dresden\, Germany\nAnne Desmet\, London\, England\nRon Fundingsland\, Bayfield\, Colorado\nAnita Hunt\, Colrain\, Massachusetts\nCarrie Phillips-Kieser\, Hammonds Plains\, Nova Scotia\, Canada\nRobin Sherin\, New York\, New York \nSelections from the Constellation Studios collection will also be shown.
URL:https://telegraphdistrict.com/event/first-friday-constellation-studios/
LOCATION:Constellation Studios\, 2055 O St.\, Lincoln\, NE\, 68510\, United States
END:VEVENT
BEGIN:VEVENT
DTSTART;TZID=America/Chicago:20241226T130000
DTEND;TZID=America/Chicago:20241226T170000
DTSTAMP:20260419T100218
CREATED:20241217T202410Z
LAST-MODIFIED:20241217T202410Z
UID:10000730-1735218000-1735232400@telegraphdistrict.com
SUMMARY:Holiday Ornament Workshop
DESCRIPTION:Join us in the Telegraph District for this special Holi-DIY family workshop! \nCreate a collection of Holiday Wood Ornaments at this festive and family-friendly event! \nEach participant will need to be registered to take part in the fun. \nWhile you are here\, enjoy cookies and hot cocoa and check out our holiday home decor\, jewelry\, accessories and last-minute Christmas gift ideas!
URL:https://telegraphdistrict.com/event/holiday-ornament-workshop/
LOCATION:AR Workshop\, 2077 N St\, Lincoln\, NE\, United States
END:VEVENT
BEGIN:VEVENT
DTSTART;TZID=America/Chicago:20241226T140000
DTEND;TZID=America/Chicago:20241226T160000
DTSTAMP:20260419T100218
CREATED:20241217T202911Z
LAST-MODIFIED:20241217T202911Z
UID:10000731-1735221600-1735228800@telegraphdistrict.com
SUMMARY:Schools Out: Paint and String Art
DESCRIPTION:Designed for kids from 7 to 14\, this two-hour workshop in Lincoln’s Telegraph District will allow campers to make unique ARt creation using paint and string.  \nKids are encouraged to bring a snack and drink to enjoy during breaks.
URL:https://telegraphdistrict.com/event/schools-out-paint-and-string-art/
LOCATION:AR Workshop\, 2077 N St\, Lincoln\, NE\, United States
END:VEVENT
END:VCALENDAR