BEGIN:VCALENDAR
VERSION:2.0
PRODID:-//Telegraph District - ECPv6.11.2//NONSGML v1.0//EN
CALSCALE:GREGORIAN
METHOD:PUBLISH
X-ORIGINAL-URL:https://telegraphdistrict.com
X-WR-CALDESC:Events for Telegraph District
REFRESH-INTERVAL;VALUE=DURATION:PT1H
X-Robots-Tag:noindex
X-PUBLISHED-TTL:PT1H
BEGIN:VTIMEZONE
TZID:America/Chicago
BEGIN:DAYLIGHT
TZOFFSETFROM:-0600
TZOFFSETTO:-0500
TZNAME:CDT
DTSTART:20280312T080000
END:DAYLIGHT
BEGIN:STANDARD
TZOFFSETFROM:-0500
TZOFFSETTO:-0600
TZNAME:CST
DTSTART:20281105T070000
END:STANDARD
END:VTIMEZONE
BEGIN:VEVENT
DTSTART;TZID=America/Chicago:20280713T170000
DTEND;TZID=America/Chicago:20280713T200000
DTSTAMP:20260419T183556
CREATED:20251215T162240Z
LAST-MODIFIED:20251215T165508Z
UID:10001844-1847120400-1847131200@telegraphdistrict.com
SUMMARY:Open Mic Night @ Hub Cafe
DESCRIPTION:🎶 Calling all musicians\, singers\, comedians\, and poets: \nJoin us in the Telegraph District every first and third Thursday of the month from 5-8pm for Open Mic night at the Hub Cafe with equipment set-up sponsored by Roots Music. Chefs Jake & Kelley will have a rotating monthly menu of pizza and dinner to indulge in while you support local musicians and artists! We always end with a large jam\, so stick around!
URL:https://telegraphdistrict.com/event/open-mic-night-hub-cafe/2028-07-13/
LOCATION:Hub Cafe\, 250 N 21st St\, Lincoln\, NE\, United States
END:VEVENT
BEGIN:VEVENT
DTSTART;TZID=America/Chicago:20280714T170000
DTEND;TZID=America/Chicago:20280714T210000
DTSTAMP:20260419T183556
CREATED:20250207T192614Z
LAST-MODIFIED:20250207T192614Z
UID:10001072-1847206800-1847221200@telegraphdistrict.com
SUMMARY:Friday Night Pizza & Pints
DESCRIPTION:Join us every Friday night in Lincoln’s Telegraph District for a rotating monthly menu of creative pizzas and small bites. Live local music and good vibes!
URL:https://telegraphdistrict.com/event/friday-night-pizza-pints/2028-07-14/
LOCATION:Hub Cafe\, 250 N 21st St\, Lincoln\, NE\, United States
END:VEVENT
BEGIN:VEVENT
DTSTART;TZID=America/Chicago:20280721T170000
DTEND;TZID=America/Chicago:20280721T210000
DTSTAMP:20260419T183556
CREATED:20250207T192614Z
LAST-MODIFIED:20250207T192614Z
UID:10001073-1847811600-1847826000@telegraphdistrict.com
SUMMARY:Friday Night Pizza & Pints
DESCRIPTION:Join us every Friday night in Lincoln’s Telegraph District for a rotating monthly menu of creative pizzas and small bites. Live local music and good vibes!
URL:https://telegraphdistrict.com/event/friday-night-pizza-pints/2028-07-21/
LOCATION:Hub Cafe\, 250 N 21st St\, Lincoln\, NE\, United States
END:VEVENT
BEGIN:VEVENT
DTSTART;TZID=America/Chicago:20280727T170000
DTEND;TZID=America/Chicago:20280727T200000
DTSTAMP:20260419T183556
CREATED:20251215T162240Z
LAST-MODIFIED:20251215T165508Z
UID:10001845-1848330000-1848340800@telegraphdistrict.com
SUMMARY:Open Mic Night @ Hub Cafe
DESCRIPTION:🎶 Calling all musicians\, singers\, comedians\, and poets: \nJoin us in the Telegraph District every first and third Thursday of the month from 5-8pm for Open Mic night at the Hub Cafe with equipment set-up sponsored by Roots Music. Chefs Jake & Kelley will have a rotating monthly menu of pizza and dinner to indulge in while you support local musicians and artists! We always end with a large jam\, so stick around!
URL:https://telegraphdistrict.com/event/open-mic-night-hub-cafe/2028-07-27/
LOCATION:Hub Cafe\, 250 N 21st St\, Lincoln\, NE\, United States
END:VEVENT
BEGIN:VEVENT
DTSTART;TZID=America/Chicago:20280728T170000
DTEND;TZID=America/Chicago:20280728T210000
DTSTAMP:20260419T183556
CREATED:20250207T192614Z
LAST-MODIFIED:20250207T192614Z
UID:10001074-1848416400-1848430800@telegraphdistrict.com
SUMMARY:Friday Night Pizza & Pints
DESCRIPTION:Join us every Friday night in Lincoln’s Telegraph District for a rotating monthly menu of creative pizzas and small bites. Live local music and good vibes!
URL:https://telegraphdistrict.com/event/friday-night-pizza-pints/2028-07-28/
LOCATION:Hub Cafe\, 250 N 21st St\, Lincoln\, NE\, United States
END:VEVENT
BEGIN:VEVENT
DTSTART;TZID=America/Chicago:20280804T170000
DTEND;TZID=America/Chicago:20280804T210000
DTSTAMP:20260419T183556
CREATED:20250207T192614Z
LAST-MODIFIED:20250207T192614Z
UID:10001075-1849021200-1849035600@telegraphdistrict.com
SUMMARY:Friday Night Pizza & Pints
DESCRIPTION:Join us every Friday night in Lincoln’s Telegraph District for a rotating monthly menu of creative pizzas and small bites. Live local music and good vibes!
URL:https://telegraphdistrict.com/event/friday-night-pizza-pints/2028-08-04/
LOCATION:Hub Cafe\, 250 N 21st St\, Lincoln\, NE\, United States
END:VEVENT
BEGIN:VEVENT
DTSTART;TZID=America/Chicago:20280810T170000
DTEND;TZID=America/Chicago:20280810T200000
DTSTAMP:20260419T183556
CREATED:20251215T162240Z
LAST-MODIFIED:20251215T165508Z
UID:10001846-1849539600-1849550400@telegraphdistrict.com
SUMMARY:Open Mic Night @ Hub Cafe
DESCRIPTION:🎶 Calling all musicians\, singers\, comedians\, and poets: \nJoin us in the Telegraph District every first and third Thursday of the month from 5-8pm for Open Mic night at the Hub Cafe with equipment set-up sponsored by Roots Music. Chefs Jake & Kelley will have a rotating monthly menu of pizza and dinner to indulge in while you support local musicians and artists! We always end with a large jam\, so stick around!
URL:https://telegraphdistrict.com/event/open-mic-night-hub-cafe/2028-08-10/
LOCATION:Hub Cafe\, 250 N 21st St\, Lincoln\, NE\, United States
END:VEVENT
BEGIN:VEVENT
DTSTART;TZID=America/Chicago:20280811T170000
DTEND;TZID=America/Chicago:20280811T210000
DTSTAMP:20260419T183556
CREATED:20250207T192614Z
LAST-MODIFIED:20250207T192614Z
UID:10001076-1849626000-1849640400@telegraphdistrict.com
SUMMARY:Friday Night Pizza & Pints
DESCRIPTION:Join us every Friday night in Lincoln’s Telegraph District for a rotating monthly menu of creative pizzas and small bites. Live local music and good vibes!
URL:https://telegraphdistrict.com/event/friday-night-pizza-pints/2028-08-11/
LOCATION:Hub Cafe\, 250 N 21st St\, Lincoln\, NE\, United States
END:VEVENT
BEGIN:VEVENT
DTSTART;TZID=America/Chicago:20280818T170000
DTEND;TZID=America/Chicago:20280818T210000
DTSTAMP:20260419T183556
CREATED:20250207T192614Z
LAST-MODIFIED:20250207T192614Z
UID:10001077-1850230800-1850245200@telegraphdistrict.com
SUMMARY:Friday Night Pizza & Pints
DESCRIPTION:Join us every Friday night in Lincoln’s Telegraph District for a rotating monthly menu of creative pizzas and small bites. Live local music and good vibes!
URL:https://telegraphdistrict.com/event/friday-night-pizza-pints/2028-08-18/
LOCATION:Hub Cafe\, 250 N 21st St\, Lincoln\, NE\, United States
END:VEVENT
BEGIN:VEVENT
DTSTART;TZID=America/Chicago:20280824T170000
DTEND;TZID=America/Chicago:20280824T200000
DTSTAMP:20260419T183556
CREATED:20251215T162240Z
LAST-MODIFIED:20251215T165508Z
UID:10001847-1850749200-1850760000@telegraphdistrict.com
SUMMARY:Open Mic Night @ Hub Cafe
DESCRIPTION:🎶 Calling all musicians\, singers\, comedians\, and poets: \nJoin us in the Telegraph District every first and third Thursday of the month from 5-8pm for Open Mic night at the Hub Cafe with equipment set-up sponsored by Roots Music. Chefs Jake & Kelley will have a rotating monthly menu of pizza and dinner to indulge in while you support local musicians and artists! We always end with a large jam\, so stick around!
URL:https://telegraphdistrict.com/event/open-mic-night-hub-cafe/2028-08-24/
LOCATION:Hub Cafe\, 250 N 21st St\, Lincoln\, NE\, United States
END:VEVENT
BEGIN:VEVENT
DTSTART;TZID=America/Chicago:20280825T170000
DTEND;TZID=America/Chicago:20280825T210000
DTSTAMP:20260419T183556
CREATED:20250207T192614Z
LAST-MODIFIED:20250207T192614Z
UID:10001078-1850835600-1850850000@telegraphdistrict.com
SUMMARY:Friday Night Pizza & Pints
DESCRIPTION:Join us every Friday night in Lincoln’s Telegraph District for a rotating monthly menu of creative pizzas and small bites. Live local music and good vibes!
URL:https://telegraphdistrict.com/event/friday-night-pizza-pints/2028-08-25/
LOCATION:Hub Cafe\, 250 N 21st St\, Lincoln\, NE\, United States
END:VEVENT
BEGIN:VEVENT
DTSTART;TZID=America/Chicago:20280901T170000
DTEND;TZID=America/Chicago:20280901T210000
DTSTAMP:20260419T183556
CREATED:20250207T192614Z
LAST-MODIFIED:20250207T192614Z
UID:10001079-1851440400-1851454800@telegraphdistrict.com
SUMMARY:Friday Night Pizza & Pints
DESCRIPTION:Join us every Friday night in Lincoln’s Telegraph District for a rotating monthly menu of creative pizzas and small bites. Live local music and good vibes!
URL:https://telegraphdistrict.com/event/friday-night-pizza-pints/2028-09-01/
LOCATION:Hub Cafe\, 250 N 21st St\, Lincoln\, NE\, United States
END:VEVENT
BEGIN:VEVENT
DTSTART;TZID=America/Chicago:20280907T170000
DTEND;TZID=America/Chicago:20280907T200000
DTSTAMP:20260419T183556
CREATED:20251215T162240Z
LAST-MODIFIED:20251215T165508Z
UID:10001848-1851958800-1851969600@telegraphdistrict.com
SUMMARY:Open Mic Night @ Hub Cafe
DESCRIPTION:🎶 Calling all musicians\, singers\, comedians\, and poets: \nJoin us in the Telegraph District every first and third Thursday of the month from 5-8pm for Open Mic night at the Hub Cafe with equipment set-up sponsored by Roots Music. Chefs Jake & Kelley will have a rotating monthly menu of pizza and dinner to indulge in while you support local musicians and artists! We always end with a large jam\, so stick around!
URL:https://telegraphdistrict.com/event/open-mic-night-hub-cafe/2028-09-07/
LOCATION:Hub Cafe\, 250 N 21st St\, Lincoln\, NE\, United States
END:VEVENT
BEGIN:VEVENT
DTSTART;TZID=America/Chicago:20280908T170000
DTEND;TZID=America/Chicago:20280908T210000
DTSTAMP:20260419T183556
CREATED:20250207T192614Z
LAST-MODIFIED:20250207T192614Z
UID:10001080-1852045200-1852059600@telegraphdistrict.com
SUMMARY:Friday Night Pizza & Pints
DESCRIPTION:Join us every Friday night in Lincoln’s Telegraph District for a rotating monthly menu of creative pizzas and small bites. Live local music and good vibes!
URL:https://telegraphdistrict.com/event/friday-night-pizza-pints/2028-09-08/
LOCATION:Hub Cafe\, 250 N 21st St\, Lincoln\, NE\, United States
END:VEVENT
BEGIN:VEVENT
DTSTART;TZID=America/Chicago:20280915T170000
DTEND;TZID=America/Chicago:20280915T210000
DTSTAMP:20260419T183556
CREATED:20250207T192614Z
LAST-MODIFIED:20250207T192614Z
UID:10001081-1852650000-1852664400@telegraphdistrict.com
SUMMARY:Friday Night Pizza & Pints
DESCRIPTION:Join us every Friday night in Lincoln’s Telegraph District for a rotating monthly menu of creative pizzas and small bites. Live local music and good vibes!
URL:https://telegraphdistrict.com/event/friday-night-pizza-pints/2028-09-15/
LOCATION:Hub Cafe\, 250 N 21st St\, Lincoln\, NE\, United States
END:VEVENT
BEGIN:VEVENT
DTSTART;TZID=America/Chicago:20280921T170000
DTEND;TZID=America/Chicago:20280921T200000
DTSTAMP:20260419T183556
CREATED:20251215T162240Z
LAST-MODIFIED:20251215T165508Z
UID:10001849-1853168400-1853179200@telegraphdistrict.com
SUMMARY:Open Mic Night @ Hub Cafe
DESCRIPTION:🎶 Calling all musicians\, singers\, comedians\, and poets: \nJoin us in the Telegraph District every first and third Thursday of the month from 5-8pm for Open Mic night at the Hub Cafe with equipment set-up sponsored by Roots Music. Chefs Jake & Kelley will have a rotating monthly menu of pizza and dinner to indulge in while you support local musicians and artists! We always end with a large jam\, so stick around!
URL:https://telegraphdistrict.com/event/open-mic-night-hub-cafe/2028-09-21/
LOCATION:Hub Cafe\, 250 N 21st St\, Lincoln\, NE\, United States
END:VEVENT
BEGIN:VEVENT
DTSTART;TZID=America/Chicago:20280922T170000
DTEND;TZID=America/Chicago:20280922T210000
DTSTAMP:20260419T183556
CREATED:20250207T192614Z
LAST-MODIFIED:20250207T192614Z
UID:10001082-1853254800-1853269200@telegraphdistrict.com
SUMMARY:Friday Night Pizza & Pints
DESCRIPTION:Join us every Friday night in Lincoln’s Telegraph District for a rotating monthly menu of creative pizzas and small bites. Live local music and good vibes!
URL:https://telegraphdistrict.com/event/friday-night-pizza-pints/2028-09-22/
LOCATION:Hub Cafe\, 250 N 21st St\, Lincoln\, NE\, United States
END:VEVENT
BEGIN:VEVENT
DTSTART;TZID=America/Chicago:20280929T170000
DTEND;TZID=America/Chicago:20280929T210000
DTSTAMP:20260419T183556
CREATED:20250207T192614Z
LAST-MODIFIED:20250207T192614Z
UID:10001083-1853859600-1853874000@telegraphdistrict.com
SUMMARY:Friday Night Pizza & Pints
DESCRIPTION:Join us every Friday night in Lincoln’s Telegraph District for a rotating monthly menu of creative pizzas and small bites. Live local music and good vibes!
URL:https://telegraphdistrict.com/event/friday-night-pizza-pints/2028-09-29/
LOCATION:Hub Cafe\, 250 N 21st St\, Lincoln\, NE\, United States
END:VEVENT
BEGIN:VEVENT
DTSTART;TZID=America/Chicago:20281005T170000
DTEND;TZID=America/Chicago:20281005T200000
DTSTAMP:20260419T183556
CREATED:20251215T162240Z
LAST-MODIFIED:20251215T165508Z
UID:10001850-1854378000-1854388800@telegraphdistrict.com
SUMMARY:Open Mic Night @ Hub Cafe
DESCRIPTION:🎶 Calling all musicians\, singers\, comedians\, and poets: \nJoin us in the Telegraph District every first and third Thursday of the month from 5-8pm for Open Mic night at the Hub Cafe with equipment set-up sponsored by Roots Music. Chefs Jake & Kelley will have a rotating monthly menu of pizza and dinner to indulge in while you support local musicians and artists! We always end with a large jam\, so stick around!
URL:https://telegraphdistrict.com/event/open-mic-night-hub-cafe/2028-10-05/
LOCATION:Hub Cafe\, 250 N 21st St\, Lincoln\, NE\, United States
END:VEVENT
BEGIN:VEVENT
DTSTART;TZID=America/Chicago:20281006T170000
DTEND;TZID=America/Chicago:20281006T210000
DTSTAMP:20260419T183556
CREATED:20250207T192614Z
LAST-MODIFIED:20250207T192614Z
UID:10001084-1854464400-1854478800@telegraphdistrict.com
SUMMARY:Friday Night Pizza & Pints
DESCRIPTION:Join us every Friday night in Lincoln’s Telegraph District for a rotating monthly menu of creative pizzas and small bites. Live local music and good vibes!
URL:https://telegraphdistrict.com/event/friday-night-pizza-pints/2028-10-06/
LOCATION:Hub Cafe\, 250 N 21st St\, Lincoln\, NE\, United States
END:VEVENT
BEGIN:VEVENT
DTSTART;TZID=America/Chicago:20281013T170000
DTEND;TZID=America/Chicago:20281013T210000
DTSTAMP:20260419T183556
CREATED:20250207T192614Z
LAST-MODIFIED:20250207T192614Z
UID:10001085-1855069200-1855083600@telegraphdistrict.com
SUMMARY:Friday Night Pizza & Pints
DESCRIPTION:Join us every Friday night in Lincoln’s Telegraph District for a rotating monthly menu of creative pizzas and small bites. Live local music and good vibes!
URL:https://telegraphdistrict.com/event/friday-night-pizza-pints/2028-10-13/
LOCATION:Hub Cafe\, 250 N 21st St\, Lincoln\, NE\, United States
END:VEVENT
BEGIN:VEVENT
DTSTART;TZID=America/Chicago:20281019T170000
DTEND;TZID=America/Chicago:20281019T200000
DTSTAMP:20260419T183556
CREATED:20251215T162240Z
LAST-MODIFIED:20251215T165508Z
UID:10001851-1855587600-1855598400@telegraphdistrict.com
SUMMARY:Open Mic Night @ Hub Cafe
DESCRIPTION:🎶 Calling all musicians\, singers\, comedians\, and poets: \nJoin us in the Telegraph District every first and third Thursday of the month from 5-8pm for Open Mic night at the Hub Cafe with equipment set-up sponsored by Roots Music. Chefs Jake & Kelley will have a rotating monthly menu of pizza and dinner to indulge in while you support local musicians and artists! We always end with a large jam\, so stick around!
URL:https://telegraphdistrict.com/event/open-mic-night-hub-cafe/2028-10-19/
LOCATION:Hub Cafe\, 250 N 21st St\, Lincoln\, NE\, United States
END:VEVENT
BEGIN:VEVENT
DTSTART;TZID=America/Chicago:20281020T170000
DTEND;TZID=America/Chicago:20281020T210000
DTSTAMP:20260419T183556
CREATED:20250207T192614Z
LAST-MODIFIED:20250207T192614Z
UID:10001086-1855674000-1855688400@telegraphdistrict.com
SUMMARY:Friday Night Pizza & Pints
DESCRIPTION:Join us every Friday night in Lincoln’s Telegraph District for a rotating monthly menu of creative pizzas and small bites. Live local music and good vibes!
URL:https://telegraphdistrict.com/event/friday-night-pizza-pints/2028-10-20/
LOCATION:Hub Cafe\, 250 N 21st St\, Lincoln\, NE\, United States
END:VEVENT
BEGIN:VEVENT
DTSTART;TZID=America/Chicago:20281027T170000
DTEND;TZID=America/Chicago:20281027T210000
DTSTAMP:20260419T183556
CREATED:20250207T192614Z
LAST-MODIFIED:20250207T192614Z
UID:10001087-1856278800-1856293200@telegraphdistrict.com
SUMMARY:Friday Night Pizza & Pints
DESCRIPTION:Join us every Friday night in Lincoln’s Telegraph District for a rotating monthly menu of creative pizzas and small bites. Live local music and good vibes!
URL:https://telegraphdistrict.com/event/friday-night-pizza-pints/2028-10-27/
LOCATION:Hub Cafe\, 250 N 21st St\, Lincoln\, NE\, United States
END:VEVENT
BEGIN:VEVENT
DTSTART;TZID=America/Chicago:20281102T170000
DTEND;TZID=America/Chicago:20281102T200000
DTSTAMP:20260419T183556
CREATED:20251215T162240Z
LAST-MODIFIED:20251215T165508Z
UID:10001852-1856797200-1856808000@telegraphdistrict.com
SUMMARY:Open Mic Night @ Hub Cafe
DESCRIPTION:🎶 Calling all musicians\, singers\, comedians\, and poets: \nJoin us in the Telegraph District every first and third Thursday of the month from 5-8pm for Open Mic night at the Hub Cafe with equipment set-up sponsored by Roots Music. Chefs Jake & Kelley will have a rotating monthly menu of pizza and dinner to indulge in while you support local musicians and artists! We always end with a large jam\, so stick around!
URL:https://telegraphdistrict.com/event/open-mic-night-hub-cafe/2028-11-02/
LOCATION:Hub Cafe\, 250 N 21st St\, Lincoln\, NE\, United States
END:VEVENT
BEGIN:VEVENT
DTSTART;TZID=America/Chicago:20281103T170000
DTEND;TZID=America/Chicago:20281103T210000
DTSTAMP:20260419T183556
CREATED:20250207T192614Z
LAST-MODIFIED:20250207T192614Z
UID:10001088-1856883600-1856898000@telegraphdistrict.com
SUMMARY:Friday Night Pizza & Pints
DESCRIPTION:Join us every Friday night in Lincoln’s Telegraph District for a rotating monthly menu of creative pizzas and small bites. Live local music and good vibes!
URL:https://telegraphdistrict.com/event/friday-night-pizza-pints/2028-11-03/
LOCATION:Hub Cafe\, 250 N 21st St\, Lincoln\, NE\, United States
END:VEVENT
BEGIN:VEVENT
DTSTART;TZID=America/Chicago:20281110T170000
DTEND;TZID=America/Chicago:20281110T210000
DTSTAMP:20260419T183556
CREATED:20250207T192614Z
LAST-MODIFIED:20250207T192614Z
UID:10001089-1857488400-1857502800@telegraphdistrict.com
SUMMARY:Friday Night Pizza & Pints
DESCRIPTION:Join us every Friday night in Lincoln’s Telegraph District for a rotating monthly menu of creative pizzas and small bites. Live local music and good vibes!
URL:https://telegraphdistrict.com/event/friday-night-pizza-pints/2028-11-10/
LOCATION:Hub Cafe\, 250 N 21st St\, Lincoln\, NE\, United States
END:VEVENT
BEGIN:VEVENT
DTSTART;TZID=America/Chicago:20281116T170000
DTEND;TZID=America/Chicago:20281116T200000
DTSTAMP:20260419T183556
CREATED:20251215T162240Z
LAST-MODIFIED:20251215T165508Z
UID:10001853-1858006800-1858017600@telegraphdistrict.com
SUMMARY:Open Mic Night @ Hub Cafe
DESCRIPTION:🎶 Calling all musicians\, singers\, comedians\, and poets: \nJoin us in the Telegraph District every first and third Thursday of the month from 5-8pm for Open Mic night at the Hub Cafe with equipment set-up sponsored by Roots Music. Chefs Jake & Kelley will have a rotating monthly menu of pizza and dinner to indulge in while you support local musicians and artists! We always end with a large jam\, so stick around!
URL:https://telegraphdistrict.com/event/open-mic-night-hub-cafe/2028-11-16/
LOCATION:Hub Cafe\, 250 N 21st St\, Lincoln\, NE\, United States
END:VEVENT
BEGIN:VEVENT
DTSTART;TZID=America/Chicago:20281117T170000
DTEND;TZID=America/Chicago:20281117T210000
DTSTAMP:20260419T183556
CREATED:20250207T192614Z
LAST-MODIFIED:20250207T192614Z
UID:10001090-1858093200-1858107600@telegraphdistrict.com
SUMMARY:Friday Night Pizza & Pints
DESCRIPTION:Join us every Friday night in Lincoln’s Telegraph District for a rotating monthly menu of creative pizzas and small bites. Live local music and good vibes!
URL:https://telegraphdistrict.com/event/friday-night-pizza-pints/2028-11-17/
LOCATION:Hub Cafe\, 250 N 21st St\, Lincoln\, NE\, United States
END:VEVENT
BEGIN:VEVENT
DTSTART;TZID=America/Chicago:20281124T170000
DTEND;TZID=America/Chicago:20281124T210000
DTSTAMP:20260419T183556
CREATED:20250207T192614Z
LAST-MODIFIED:20250207T192614Z
UID:10001091-1858698000-1858712400@telegraphdistrict.com
SUMMARY:Friday Night Pizza & Pints
DESCRIPTION:Join us every Friday night in Lincoln’s Telegraph District for a rotating monthly menu of creative pizzas and small bites. Live local music and good vibes!
URL:https://telegraphdistrict.com/event/friday-night-pizza-pints/2028-11-24/
LOCATION:Hub Cafe\, 250 N 21st St\, Lincoln\, NE\, United States
END:VEVENT
END:VCALENDAR