BEGIN:VCALENDAR
VERSION:2.0
PRODID:-//Telegraph District - ECPv6.11.2//NONSGML v1.0//EN
CALSCALE:GREGORIAN
METHOD:PUBLISH
X-ORIGINAL-URL:https://telegraphdistrict.com
X-WR-CALDESC:Events for Telegraph District
REFRESH-INTERVAL;VALUE=DURATION:PT1H
X-Robots-Tag:noindex
X-PUBLISHED-TTL:PT1H
BEGIN:VTIMEZONE
TZID:America/Chicago
BEGIN:DAYLIGHT
TZOFFSETFROM:-0600
TZOFFSETTO:-0500
TZNAME:CDT
DTSTART:20290311T080000
END:DAYLIGHT
BEGIN:STANDARD
TZOFFSETFROM:-0500
TZOFFSETTO:-0600
TZNAME:CST
DTSTART:20291104T070000
END:STANDARD
BEGIN:DAYLIGHT
TZOFFSETFROM:-0600
TZOFFSETTO:-0500
TZNAME:CDT
DTSTART:20300310T080000
END:DAYLIGHT
BEGIN:STANDARD
TZOFFSETFROM:-0500
TZOFFSETTO:-0600
TZNAME:CST
DTSTART:20301103T070000
END:STANDARD
END:VTIMEZONE
BEGIN:VEVENT
DTSTART;TZID=America/Chicago:20291129T170000
DTEND;TZID=America/Chicago:20291129T200000
DTSTAMP:20260421T185745
CREATED:20251215T162240Z
LAST-MODIFIED:20251215T165508Z
UID:10001880-1890666000-1890676800@telegraphdistrict.com
SUMMARY:Open Mic Night @ Hub Cafe
DESCRIPTION:🎶 Calling all musicians\, singers\, comedians\, and poets: \nJoin us in the Telegraph District every first and third Thursday of the month from 5-8pm for Open Mic night at the Hub Cafe with equipment set-up sponsored by Roots Music. Chefs Jake & Kelley will have a rotating monthly menu of pizza and dinner to indulge in while you support local musicians and artists! We always end with a large jam\, so stick around!
URL:https://telegraphdistrict.com/event/open-mic-night-hub-cafe/2029-11-29/
LOCATION:Hub Cafe\, 250 N 21st St\, Lincoln\, NE\, United States
END:VEVENT
BEGIN:VEVENT
DTSTART;TZID=America/Chicago:20291130T170000
DTEND;TZID=America/Chicago:20291130T210000
DTSTAMP:20260421T185745
CREATED:20250207T192614Z
LAST-MODIFIED:20250207T192614Z
UID:10001144-1890752400-1890766800@telegraphdistrict.com
SUMMARY:Friday Night Pizza & Pints
DESCRIPTION:Join us every Friday night in Lincoln’s Telegraph District for a rotating monthly menu of creative pizzas and small bites. Live local music and good vibes!
URL:https://telegraphdistrict.com/event/friday-night-pizza-pints/2029-11-30/
LOCATION:Hub Cafe\, 250 N 21st St\, Lincoln\, NE\, United States
END:VEVENT
BEGIN:VEVENT
DTSTART;TZID=America/Chicago:20291207T170000
DTEND;TZID=America/Chicago:20291207T210000
DTSTAMP:20260421T185745
CREATED:20250207T192614Z
LAST-MODIFIED:20250207T192614Z
UID:10001145-1891357200-1891371600@telegraphdistrict.com
SUMMARY:Friday Night Pizza & Pints
DESCRIPTION:Join us every Friday night in Lincoln’s Telegraph District for a rotating monthly menu of creative pizzas and small bites. Live local music and good vibes!
URL:https://telegraphdistrict.com/event/friday-night-pizza-pints/2029-12-07/
LOCATION:Hub Cafe\, 250 N 21st St\, Lincoln\, NE\, United States
END:VEVENT
BEGIN:VEVENT
DTSTART;TZID=America/Chicago:20291213T170000
DTEND;TZID=America/Chicago:20291213T200000
DTSTAMP:20260421T185745
CREATED:20251215T162240Z
LAST-MODIFIED:20251215T165508Z
UID:10001881-1891875600-1891886400@telegraphdistrict.com
SUMMARY:Open Mic Night @ Hub Cafe
DESCRIPTION:🎶 Calling all musicians\, singers\, comedians\, and poets: \nJoin us in the Telegraph District every first and third Thursday of the month from 5-8pm for Open Mic night at the Hub Cafe with equipment set-up sponsored by Roots Music. Chefs Jake & Kelley will have a rotating monthly menu of pizza and dinner to indulge in while you support local musicians and artists! We always end with a large jam\, so stick around!
URL:https://telegraphdistrict.com/event/open-mic-night-hub-cafe/2029-12-13/
LOCATION:Hub Cafe\, 250 N 21st St\, Lincoln\, NE\, United States
END:VEVENT
BEGIN:VEVENT
DTSTART;TZID=America/Chicago:20291214T170000
DTEND;TZID=America/Chicago:20291214T210000
DTSTAMP:20260421T185745
CREATED:20250207T192614Z
LAST-MODIFIED:20250207T192614Z
UID:10001146-1891962000-1891976400@telegraphdistrict.com
SUMMARY:Friday Night Pizza & Pints
DESCRIPTION:Join us every Friday night in Lincoln’s Telegraph District for a rotating monthly menu of creative pizzas and small bites. Live local music and good vibes!
URL:https://telegraphdistrict.com/event/friday-night-pizza-pints/2029-12-14/
LOCATION:Hub Cafe\, 250 N 21st St\, Lincoln\, NE\, United States
END:VEVENT
BEGIN:VEVENT
DTSTART;TZID=America/Chicago:20291221T170000
DTEND;TZID=America/Chicago:20291221T210000
DTSTAMP:20260421T185745
CREATED:20250207T192614Z
LAST-MODIFIED:20250207T192614Z
UID:10001147-1892566800-1892581200@telegraphdistrict.com
SUMMARY:Friday Night Pizza & Pints
DESCRIPTION:Join us every Friday night in Lincoln’s Telegraph District for a rotating monthly menu of creative pizzas and small bites. Live local music and good vibes!
URL:https://telegraphdistrict.com/event/friday-night-pizza-pints/2029-12-21/
LOCATION:Hub Cafe\, 250 N 21st St\, Lincoln\, NE\, United States
END:VEVENT
BEGIN:VEVENT
DTSTART;TZID=America/Chicago:20291227T170000
DTEND;TZID=America/Chicago:20291227T200000
DTSTAMP:20260421T185745
CREATED:20251215T162240Z
LAST-MODIFIED:20251215T165508Z
UID:10001882-1893085200-1893096000@telegraphdistrict.com
SUMMARY:Open Mic Night @ Hub Cafe
DESCRIPTION:🎶 Calling all musicians\, singers\, comedians\, and poets: \nJoin us in the Telegraph District every first and third Thursday of the month from 5-8pm for Open Mic night at the Hub Cafe with equipment set-up sponsored by Roots Music. Chefs Jake & Kelley will have a rotating monthly menu of pizza and dinner to indulge in while you support local musicians and artists! We always end with a large jam\, so stick around!
URL:https://telegraphdistrict.com/event/open-mic-night-hub-cafe/2029-12-27/
LOCATION:Hub Cafe\, 250 N 21st St\, Lincoln\, NE\, United States
END:VEVENT
BEGIN:VEVENT
DTSTART;TZID=America/Chicago:20291228T170000
DTEND;TZID=America/Chicago:20291228T210000
DTSTAMP:20260421T185745
CREATED:20250207T192614Z
LAST-MODIFIED:20250207T192614Z
UID:10001148-1893171600-1893186000@telegraphdistrict.com
SUMMARY:Friday Night Pizza & Pints
DESCRIPTION:Join us every Friday night in Lincoln’s Telegraph District for a rotating monthly menu of creative pizzas and small bites. Live local music and good vibes!
URL:https://telegraphdistrict.com/event/friday-night-pizza-pints/2029-12-28/
LOCATION:Hub Cafe\, 250 N 21st St\, Lincoln\, NE\, United States
END:VEVENT
BEGIN:VEVENT
DTSTART;TZID=America/Chicago:20300104T170000
DTEND;TZID=America/Chicago:20300104T210000
DTSTAMP:20260421T185745
CREATED:20250207T192614Z
LAST-MODIFIED:20250207T192614Z
UID:10001149-1893776400-1893790800@telegraphdistrict.com
SUMMARY:Friday Night Pizza & Pints
DESCRIPTION:Join us every Friday night in Lincoln’s Telegraph District for a rotating monthly menu of creative pizzas and small bites. Live local music and good vibes!
URL:https://telegraphdistrict.com/event/friday-night-pizza-pints/2030-01-04/
LOCATION:Hub Cafe\, 250 N 21st St\, Lincoln\, NE\, United States
END:VEVENT
BEGIN:VEVENT
DTSTART;TZID=America/Chicago:20300110T170000
DTEND;TZID=America/Chicago:20300110T200000
DTSTAMP:20260421T185745
CREATED:20251215T162240Z
LAST-MODIFIED:20251215T165508Z
UID:10001883-1894294800-1894305600@telegraphdistrict.com
SUMMARY:Open Mic Night @ Hub Cafe
DESCRIPTION:🎶 Calling all musicians\, singers\, comedians\, and poets: \nJoin us in the Telegraph District every first and third Thursday of the month from 5-8pm for Open Mic night at the Hub Cafe with equipment set-up sponsored by Roots Music. Chefs Jake & Kelley will have a rotating monthly menu of pizza and dinner to indulge in while you support local musicians and artists! We always end with a large jam\, so stick around!
URL:https://telegraphdistrict.com/event/open-mic-night-hub-cafe/2030-01-10/
LOCATION:Hub Cafe\, 250 N 21st St\, Lincoln\, NE\, United States
END:VEVENT
BEGIN:VEVENT
DTSTART;TZID=America/Chicago:20300111T170000
DTEND;TZID=America/Chicago:20300111T210000
DTSTAMP:20260421T185745
CREATED:20250207T192614Z
LAST-MODIFIED:20250207T192614Z
UID:10001150-1894381200-1894395600@telegraphdistrict.com
SUMMARY:Friday Night Pizza & Pints
DESCRIPTION:Join us every Friday night in Lincoln’s Telegraph District for a rotating monthly menu of creative pizzas and small bites. Live local music and good vibes!
URL:https://telegraphdistrict.com/event/friday-night-pizza-pints/2030-01-11/
LOCATION:Hub Cafe\, 250 N 21st St\, Lincoln\, NE\, United States
END:VEVENT
BEGIN:VEVENT
DTSTART;TZID=America/Chicago:20300118T170000
DTEND;TZID=America/Chicago:20300118T210000
DTSTAMP:20260421T185745
CREATED:20250207T192614Z
LAST-MODIFIED:20250207T192614Z
UID:10001151-1894986000-1895000400@telegraphdistrict.com
SUMMARY:Friday Night Pizza & Pints
DESCRIPTION:Join us every Friday night in Lincoln’s Telegraph District for a rotating monthly menu of creative pizzas and small bites. Live local music and good vibes!
URL:https://telegraphdistrict.com/event/friday-night-pizza-pints/2030-01-18/
LOCATION:Hub Cafe\, 250 N 21st St\, Lincoln\, NE\, United States
END:VEVENT
BEGIN:VEVENT
DTSTART;TZID=America/Chicago:20300124T170000
DTEND;TZID=America/Chicago:20300124T200000
DTSTAMP:20260421T185745
CREATED:20251215T162240Z
LAST-MODIFIED:20251215T165508Z
UID:10001884-1895504400-1895515200@telegraphdistrict.com
SUMMARY:Open Mic Night @ Hub Cafe
DESCRIPTION:🎶 Calling all musicians\, singers\, comedians\, and poets: \nJoin us in the Telegraph District every first and third Thursday of the month from 5-8pm for Open Mic night at the Hub Cafe with equipment set-up sponsored by Roots Music. Chefs Jake & Kelley will have a rotating monthly menu of pizza and dinner to indulge in while you support local musicians and artists! We always end with a large jam\, so stick around!
URL:https://telegraphdistrict.com/event/open-mic-night-hub-cafe/2030-01-24/
LOCATION:Hub Cafe\, 250 N 21st St\, Lincoln\, NE\, United States
END:VEVENT
BEGIN:VEVENT
DTSTART;TZID=America/Chicago:20300125T170000
DTEND;TZID=America/Chicago:20300125T210000
DTSTAMP:20260421T185745
CREATED:20250207T192614Z
LAST-MODIFIED:20250207T192614Z
UID:10001152-1895590800-1895605200@telegraphdistrict.com
SUMMARY:Friday Night Pizza & Pints
DESCRIPTION:Join us every Friday night in Lincoln’s Telegraph District for a rotating monthly menu of creative pizzas and small bites. Live local music and good vibes!
URL:https://telegraphdistrict.com/event/friday-night-pizza-pints/2030-01-25/
LOCATION:Hub Cafe\, 250 N 21st St\, Lincoln\, NE\, United States
END:VEVENT
BEGIN:VEVENT
DTSTART;TZID=America/Chicago:20300201T170000
DTEND;TZID=America/Chicago:20300201T210000
DTSTAMP:20260421T185745
CREATED:20250207T192614Z
LAST-MODIFIED:20250207T192614Z
UID:10001153-1896195600-1896210000@telegraphdistrict.com
SUMMARY:Friday Night Pizza & Pints
DESCRIPTION:Join us every Friday night in Lincoln’s Telegraph District for a rotating monthly menu of creative pizzas and small bites. Live local music and good vibes!
URL:https://telegraphdistrict.com/event/friday-night-pizza-pints/2030-02-01/
LOCATION:Hub Cafe\, 250 N 21st St\, Lincoln\, NE\, United States
END:VEVENT
BEGIN:VEVENT
DTSTART;TZID=America/Chicago:20300207T170000
DTEND;TZID=America/Chicago:20300207T200000
DTSTAMP:20260421T185745
CREATED:20251215T162240Z
LAST-MODIFIED:20251215T165508Z
UID:10001885-1896714000-1896724800@telegraphdistrict.com
SUMMARY:Open Mic Night @ Hub Cafe
DESCRIPTION:🎶 Calling all musicians\, singers\, comedians\, and poets: \nJoin us in the Telegraph District every first and third Thursday of the month from 5-8pm for Open Mic night at the Hub Cafe with equipment set-up sponsored by Roots Music. Chefs Jake & Kelley will have a rotating monthly menu of pizza and dinner to indulge in while you support local musicians and artists! We always end with a large jam\, so stick around!
URL:https://telegraphdistrict.com/event/open-mic-night-hub-cafe/2030-02-07/
LOCATION:Hub Cafe\, 250 N 21st St\, Lincoln\, NE\, United States
END:VEVENT
BEGIN:VEVENT
DTSTART;TZID=America/Chicago:20300221T170000
DTEND;TZID=America/Chicago:20300221T200000
DTSTAMP:20260421T185745
CREATED:20251215T162240Z
LAST-MODIFIED:20251215T165508Z
UID:10001886-1897923600-1897934400@telegraphdistrict.com
SUMMARY:Open Mic Night @ Hub Cafe
DESCRIPTION:🎶 Calling all musicians\, singers\, comedians\, and poets: \nJoin us in the Telegraph District every first and third Thursday of the month from 5-8pm for Open Mic night at the Hub Cafe with equipment set-up sponsored by Roots Music. Chefs Jake & Kelley will have a rotating monthly menu of pizza and dinner to indulge in while you support local musicians and artists! We always end with a large jam\, so stick around!
URL:https://telegraphdistrict.com/event/open-mic-night-hub-cafe/2030-02-21/
LOCATION:Hub Cafe\, 250 N 21st St\, Lincoln\, NE\, United States
END:VEVENT
BEGIN:VEVENT
DTSTART;TZID=America/Chicago:20300307T170000
DTEND;TZID=America/Chicago:20300307T200000
DTSTAMP:20260421T185745
CREATED:20251215T162240Z
LAST-MODIFIED:20251215T165508Z
UID:10001887-1899133200-1899144000@telegraphdistrict.com
SUMMARY:Open Mic Night @ Hub Cafe
DESCRIPTION:🎶 Calling all musicians\, singers\, comedians\, and poets: \nJoin us in the Telegraph District every first and third Thursday of the month from 5-8pm for Open Mic night at the Hub Cafe with equipment set-up sponsored by Roots Music. Chefs Jake & Kelley will have a rotating monthly menu of pizza and dinner to indulge in while you support local musicians and artists! We always end with a large jam\, so stick around!
URL:https://telegraphdistrict.com/event/open-mic-night-hub-cafe/2030-03-07/
LOCATION:Hub Cafe\, 250 N 21st St\, Lincoln\, NE\, United States
END:VEVENT
BEGIN:VEVENT
DTSTART;TZID=America/Chicago:20300321T170000
DTEND;TZID=America/Chicago:20300321T200000
DTSTAMP:20260421T185745
CREATED:20251215T162240Z
LAST-MODIFIED:20251215T165508Z
UID:10001888-1900342800-1900353600@telegraphdistrict.com
SUMMARY:Open Mic Night @ Hub Cafe
DESCRIPTION:🎶 Calling all musicians\, singers\, comedians\, and poets: \nJoin us in the Telegraph District every first and third Thursday of the month from 5-8pm for Open Mic night at the Hub Cafe with equipment set-up sponsored by Roots Music. Chefs Jake & Kelley will have a rotating monthly menu of pizza and dinner to indulge in while you support local musicians and artists! We always end with a large jam\, so stick around!
URL:https://telegraphdistrict.com/event/open-mic-night-hub-cafe/2030-03-21/
LOCATION:Hub Cafe\, 250 N 21st St\, Lincoln\, NE\, United States
END:VEVENT
BEGIN:VEVENT
DTSTART;TZID=America/Chicago:20300404T170000
DTEND;TZID=America/Chicago:20300404T200000
DTSTAMP:20260421T185745
CREATED:20251215T162240Z
LAST-MODIFIED:20251215T165508Z
UID:10001889-1901552400-1901563200@telegraphdistrict.com
SUMMARY:Open Mic Night @ Hub Cafe
DESCRIPTION:🎶 Calling all musicians\, singers\, comedians\, and poets: \nJoin us in the Telegraph District every first and third Thursday of the month from 5-8pm for Open Mic night at the Hub Cafe with equipment set-up sponsored by Roots Music. Chefs Jake & Kelley will have a rotating monthly menu of pizza and dinner to indulge in while you support local musicians and artists! We always end with a large jam\, so stick around!
URL:https://telegraphdistrict.com/event/open-mic-night-hub-cafe/2030-04-04/
LOCATION:Hub Cafe\, 250 N 21st St\, Lincoln\, NE\, United States
END:VEVENT
BEGIN:VEVENT
DTSTART;TZID=America/Chicago:20300418T170000
DTEND;TZID=America/Chicago:20300418T200000
DTSTAMP:20260421T185745
CREATED:20251215T162240Z
LAST-MODIFIED:20251215T165508Z
UID:10001890-1902762000-1902772800@telegraphdistrict.com
SUMMARY:Open Mic Night @ Hub Cafe
DESCRIPTION:🎶 Calling all musicians\, singers\, comedians\, and poets: \nJoin us in the Telegraph District every first and third Thursday of the month from 5-8pm for Open Mic night at the Hub Cafe with equipment set-up sponsored by Roots Music. Chefs Jake & Kelley will have a rotating monthly menu of pizza and dinner to indulge in while you support local musicians and artists! We always end with a large jam\, so stick around!
URL:https://telegraphdistrict.com/event/open-mic-night-hub-cafe/2030-04-18/
LOCATION:Hub Cafe\, 250 N 21st St\, Lincoln\, NE\, United States
END:VEVENT
BEGIN:VEVENT
DTSTART;TZID=America/Chicago:20300502T170000
DTEND;TZID=America/Chicago:20300502T200000
DTSTAMP:20260421T185745
CREATED:20251215T162240Z
LAST-MODIFIED:20251215T165508Z
UID:10001891-1903971600-1903982400@telegraphdistrict.com
SUMMARY:Open Mic Night @ Hub Cafe
DESCRIPTION:🎶 Calling all musicians\, singers\, comedians\, and poets: \nJoin us in the Telegraph District every first and third Thursday of the month from 5-8pm for Open Mic night at the Hub Cafe with equipment set-up sponsored by Roots Music. Chefs Jake & Kelley will have a rotating monthly menu of pizza and dinner to indulge in while you support local musicians and artists! We always end with a large jam\, so stick around!
URL:https://telegraphdistrict.com/event/open-mic-night-hub-cafe/2030-05-02/
LOCATION:Hub Cafe\, 250 N 21st St\, Lincoln\, NE\, United States
END:VEVENT
BEGIN:VEVENT
DTSTART;TZID=America/Chicago:20300516T170000
DTEND;TZID=America/Chicago:20300516T200000
DTSTAMP:20260421T185745
CREATED:20251215T162240Z
LAST-MODIFIED:20251215T165508Z
UID:10001892-1905181200-1905192000@telegraphdistrict.com
SUMMARY:Open Mic Night @ Hub Cafe
DESCRIPTION:🎶 Calling all musicians\, singers\, comedians\, and poets: \nJoin us in the Telegraph District every first and third Thursday of the month from 5-8pm for Open Mic night at the Hub Cafe with equipment set-up sponsored by Roots Music. Chefs Jake & Kelley will have a rotating monthly menu of pizza and dinner to indulge in while you support local musicians and artists! We always end with a large jam\, so stick around!
URL:https://telegraphdistrict.com/event/open-mic-night-hub-cafe/2030-05-16/
LOCATION:Hub Cafe\, 250 N 21st St\, Lincoln\, NE\, United States
END:VEVENT
BEGIN:VEVENT
DTSTART;TZID=America/Chicago:20300530T170000
DTEND;TZID=America/Chicago:20300530T200000
DTSTAMP:20260421T185745
CREATED:20251215T162240Z
LAST-MODIFIED:20251215T165508Z
UID:10001893-1906390800-1906401600@telegraphdistrict.com
SUMMARY:Open Mic Night @ Hub Cafe
DESCRIPTION:🎶 Calling all musicians\, singers\, comedians\, and poets: \nJoin us in the Telegraph District every first and third Thursday of the month from 5-8pm for Open Mic night at the Hub Cafe with equipment set-up sponsored by Roots Music. Chefs Jake & Kelley will have a rotating monthly menu of pizza and dinner to indulge in while you support local musicians and artists! We always end with a large jam\, so stick around!
URL:https://telegraphdistrict.com/event/open-mic-night-hub-cafe/2030-05-30/
LOCATION:Hub Cafe\, 250 N 21st St\, Lincoln\, NE\, United States
END:VEVENT
BEGIN:VEVENT
DTSTART;TZID=America/Chicago:20300613T170000
DTEND;TZID=America/Chicago:20300613T200000
DTSTAMP:20260421T185745
CREATED:20251215T162240Z
LAST-MODIFIED:20251215T165508Z
UID:10001894-1907600400-1907611200@telegraphdistrict.com
SUMMARY:Open Mic Night @ Hub Cafe
DESCRIPTION:🎶 Calling all musicians\, singers\, comedians\, and poets: \nJoin us in the Telegraph District every first and third Thursday of the month from 5-8pm for Open Mic night at the Hub Cafe with equipment set-up sponsored by Roots Music. Chefs Jake & Kelley will have a rotating monthly menu of pizza and dinner to indulge in while you support local musicians and artists! We always end with a large jam\, so stick around!
URL:https://telegraphdistrict.com/event/open-mic-night-hub-cafe/2030-06-13/
LOCATION:Hub Cafe\, 250 N 21st St\, Lincoln\, NE\, United States
END:VEVENT
BEGIN:VEVENT
DTSTART;TZID=America/Chicago:20300627T170000
DTEND;TZID=America/Chicago:20300627T200000
DTSTAMP:20260421T185745
CREATED:20251215T162240Z
LAST-MODIFIED:20251215T165508Z
UID:10001895-1908810000-1908820800@telegraphdistrict.com
SUMMARY:Open Mic Night @ Hub Cafe
DESCRIPTION:🎶 Calling all musicians\, singers\, comedians\, and poets: \nJoin us in the Telegraph District every first and third Thursday of the month from 5-8pm for Open Mic night at the Hub Cafe with equipment set-up sponsored by Roots Music. Chefs Jake & Kelley will have a rotating monthly menu of pizza and dinner to indulge in while you support local musicians and artists! We always end with a large jam\, so stick around!
URL:https://telegraphdistrict.com/event/open-mic-night-hub-cafe/2030-06-27/
LOCATION:Hub Cafe\, 250 N 21st St\, Lincoln\, NE\, United States
END:VEVENT
BEGIN:VEVENT
DTSTART;TZID=America/Chicago:20300711T170000
DTEND;TZID=America/Chicago:20300711T200000
DTSTAMP:20260421T185745
CREATED:20251215T162240Z
LAST-MODIFIED:20251215T165508Z
UID:10001896-1910019600-1910030400@telegraphdistrict.com
SUMMARY:Open Mic Night @ Hub Cafe
DESCRIPTION:🎶 Calling all musicians\, singers\, comedians\, and poets: \nJoin us in the Telegraph District every first and third Thursday of the month from 5-8pm for Open Mic night at the Hub Cafe with equipment set-up sponsored by Roots Music. Chefs Jake & Kelley will have a rotating monthly menu of pizza and dinner to indulge in while you support local musicians and artists! We always end with a large jam\, so stick around!
URL:https://telegraphdistrict.com/event/open-mic-night-hub-cafe/2030-07-11/
LOCATION:Hub Cafe\, 250 N 21st St\, Lincoln\, NE\, United States
END:VEVENT
BEGIN:VEVENT
DTSTART;TZID=America/Chicago:20300725T170000
DTEND;TZID=America/Chicago:20300725T200000
DTSTAMP:20260421T185745
CREATED:20251215T162240Z
LAST-MODIFIED:20251215T165508Z
UID:10001897-1911229200-1911240000@telegraphdistrict.com
SUMMARY:Open Mic Night @ Hub Cafe
DESCRIPTION:🎶 Calling all musicians\, singers\, comedians\, and poets: \nJoin us in the Telegraph District every first and third Thursday of the month from 5-8pm for Open Mic night at the Hub Cafe with equipment set-up sponsored by Roots Music. Chefs Jake & Kelley will have a rotating monthly menu of pizza and dinner to indulge in while you support local musicians and artists! We always end with a large jam\, so stick around!
URL:https://telegraphdistrict.com/event/open-mic-night-hub-cafe/2030-07-25/
LOCATION:Hub Cafe\, 250 N 21st St\, Lincoln\, NE\, United States
END:VEVENT
BEGIN:VEVENT
DTSTART;TZID=America/Chicago:20300808T170000
DTEND;TZID=America/Chicago:20300808T200000
DTSTAMP:20260421T185745
CREATED:20251215T162240Z
LAST-MODIFIED:20251215T165508Z
UID:10001898-1912438800-1912449600@telegraphdistrict.com
SUMMARY:Open Mic Night @ Hub Cafe
DESCRIPTION:🎶 Calling all musicians\, singers\, comedians\, and poets: \nJoin us in the Telegraph District every first and third Thursday of the month from 5-8pm for Open Mic night at the Hub Cafe with equipment set-up sponsored by Roots Music. Chefs Jake & Kelley will have a rotating monthly menu of pizza and dinner to indulge in while you support local musicians and artists! We always end with a large jam\, so stick around!
URL:https://telegraphdistrict.com/event/open-mic-night-hub-cafe/2030-08-08/
LOCATION:Hub Cafe\, 250 N 21st St\, Lincoln\, NE\, United States
END:VEVENT
BEGIN:VEVENT
DTSTART;TZID=America/Chicago:20300822T170000
DTEND;TZID=America/Chicago:20300822T200000
DTSTAMP:20260421T185745
CREATED:20251215T162240Z
LAST-MODIFIED:20251215T165508Z
UID:10001899-1913648400-1913659200@telegraphdistrict.com
SUMMARY:Open Mic Night @ Hub Cafe
DESCRIPTION:🎶 Calling all musicians\, singers\, comedians\, and poets: \nJoin us in the Telegraph District every first and third Thursday of the month from 5-8pm for Open Mic night at the Hub Cafe with equipment set-up sponsored by Roots Music. Chefs Jake & Kelley will have a rotating monthly menu of pizza and dinner to indulge in while you support local musicians and artists! We always end with a large jam\, so stick around!
URL:https://telegraphdistrict.com/event/open-mic-night-hub-cafe/2030-08-22/
LOCATION:Hub Cafe\, 250 N 21st St\, Lincoln\, NE\, United States
END:VEVENT
END:VCALENDAR