BEGIN:VCALENDAR
VERSION:2.0
PRODID:-//Telegraph District - ECPv6.11.2//NONSGML v1.0//EN
CALSCALE:GREGORIAN
METHOD:PUBLISH
X-ORIGINAL-URL:https://telegraphdistrict.com
X-WR-CALDESC:Events for Telegraph District
REFRESH-INTERVAL;VALUE=DURATION:PT1H
X-Robots-Tag:noindex
X-PUBLISHED-TTL:PT1H
BEGIN:VTIMEZONE
TZID:America/Chicago
BEGIN:DAYLIGHT
TZOFFSETFROM:-0600
TZOFFSETTO:-0500
TZNAME:CDT
DTSTART:20230312T080000
END:DAYLIGHT
BEGIN:STANDARD
TZOFFSETFROM:-0500
TZOFFSETTO:-0600
TZNAME:CST
DTSTART:20231105T070000
END:STANDARD
BEGIN:DAYLIGHT
TZOFFSETFROM:-0600
TZOFFSETTO:-0500
TZNAME:CDT
DTSTART:20240310T080000
END:DAYLIGHT
BEGIN:STANDARD
TZOFFSETFROM:-0500
TZOFFSETTO:-0600
TZNAME:CST
DTSTART:20241103T070000
END:STANDARD
END:VTIMEZONE
BEGIN:VEVENT
DTSTART;TZID=America/Chicago:20240626T180000
DTEND;TZID=America/Chicago:20240626T210000
DTSTAMP:20260421T165706
CREATED:20240524T181720Z
LAST-MODIFIED:20240524T181720Z
UID:10000658-1719424800-1719435600@telegraphdistrict.com
SUMMARY:Live @ Telegraph: Mike Semrad & the Riverhawks
DESCRIPTION:“Join us for a season of concerts on the patio.  \nFree admission! All ages welcome.  \nRain or shine. Bring a chair\, or come early to scout for a table. \nFood & beverages from The Mill available.”
URL:https://telegraphdistrict.com/event/live-telegraph-mike-semrad-the-riverhawks/
LOCATION:The Mill at Telegraph\, 330 S 21st St\, Lincoln\, NE\, 68510\, United States
END:VEVENT
BEGIN:VEVENT
DTSTART;TZID=America/Chicago:20240619T180000
DTEND;TZID=America/Chicago:20240619T210000
DTSTAMP:20260421T165706
CREATED:20240524T181514Z
LAST-MODIFIED:20240524T181514Z
UID:10000656-1718820000-1718830800@telegraphdistrict.com
SUMMARY:Live @ Telegraph: Church of Blues
DESCRIPTION:Join us for a season of concerts on the patio.  \nFree admission! All ages welcome.  \nRain or shine. Bring a chair\, or come early to scout for a table. \nFood & beverages from The Mill available.
URL:https://telegraphdistrict.com/event/live-telegraph-church-of-blues/
LOCATION:The Mill at Telegraph\, 330 S 21st St\, Lincoln\, NE\, 68510\, United States
END:VEVENT
BEGIN:VEVENT
DTSTART;TZID=America/Chicago:20240612T180000
DTEND;TZID=America/Chicago:20240612T210000
DTSTAMP:20260421T165706
CREATED:20240524T171212Z
LAST-MODIFIED:20240524T171212Z
UID:10000655-1718215200-1718226000@telegraphdistrict.com
SUMMARY:Live @ Telegraph: Jarana
DESCRIPTION:Join us for a season of concerts on the patio.  \nFree admission! All ages welcome.  \nRain or shine. Bring a chair\, or come early to scout for a table. \nFood & beverages from The Mill available.
URL:https://telegraphdistrict.com/event/live-telegraph-jarana/
LOCATION:The Mill at Telegraph\, 330 S 21st St\, Lincoln\, NE\, 68510\, United States
END:VEVENT
BEGIN:VEVENT
DTSTART;TZID=America/Chicago:20240605T180000
DTEND;TZID=America/Chicago:20240605T210000
DTSTAMP:20260421T165706
CREATED:20240524T171107Z
LAST-MODIFIED:20240524T171107Z
UID:10000654-1717610400-1717621200@telegraphdistrict.com
SUMMARY:Live @ Telegraph: AM/FM
DESCRIPTION:Join us for a season of concerts on the patio.  \nFree admission! All ages welcome.  \nRain or shine. Bring a chair\, or come early to scout for a table. \nFood & beverages from The Mill available.
URL:https://telegraphdistrict.com/event/live-telegraph-am-fm/
LOCATION:The Mill at Telegraph\, 330 S 21st St\, Lincoln\, NE\, 68510\, United States
END:VEVENT
BEGIN:VEVENT
DTSTART;TZID=America/Chicago:20230809T180000
DTEND;TZID=America/Chicago:20230809T210000
DTSTAMP:20260421T165706
CREATED:20230614T142806Z
LAST-MODIFIED:20230614T142806Z
UID:10000412-1691604000-1691614800@telegraphdistrict.com
SUMMARY:Live @ Telegraph Summer Concert Series
DESCRIPTION:It’s a year of anniversaries\, so join us for a season of concerts on the patio! The Mill will be offering food and beverages\, including a new featured beer every week.
URL:https://telegraphdistrict.com/event/live-telegraph-summer-concert-series-8-9/
LOCATION:The Mill at Telegraph\, 330 S 21st St\, Lincoln\, NE\, 68510\, United States
END:VEVENT
BEGIN:VEVENT
DTSTART;TZID=America/Chicago:20230802T180000
DTEND;TZID=America/Chicago:20230802T210000
DTSTAMP:20260421T165706
CREATED:20230614T142722Z
LAST-MODIFIED:20230614T142722Z
UID:10000411-1690999200-1691010000@telegraphdistrict.com
SUMMARY:Live @ Telegraph Summer Concert Series
DESCRIPTION:It’s a year of anniversaries\, so join us for a season of concerts on the patio! The Mill will be offering food and beverages\, including a new featured beer every week.
URL:https://telegraphdistrict.com/event/live-telegraph-summer-concert-series-8-2/
LOCATION:The Mill at Telegraph\, 330 S 21st St\, Lincoln\, NE\, 68510\, United States
END:VEVENT
BEGIN:VEVENT
DTSTART;TZID=America/Chicago:20230726T180000
DTEND;TZID=America/Chicago:20230726T210000
DTSTAMP:20260421T165706
CREATED:20230614T142458Z
LAST-MODIFIED:20230614T142458Z
UID:10000410-1690394400-1690405200@telegraphdistrict.com
SUMMARY:Live @ Telegraph Summer Concert Series
DESCRIPTION:It’s a year of anniversaries\, so join us for a season of concerts on the patio! The Mill will be offering food and beverages\, including a new featured beer every week.
URL:https://telegraphdistrict.com/event/live-telegraph-summer-concert-series-7-26/
LOCATION:The Mill at Telegraph\, 330 S 21st St\, Lincoln\, NE\, 68510\, United States
END:VEVENT
BEGIN:VEVENT
DTSTART;TZID=America/Chicago:20230719T180000
DTEND;TZID=America/Chicago:20230719T210000
DTSTAMP:20260421T165706
CREATED:20230614T142400Z
LAST-MODIFIED:20230614T142400Z
UID:10000409-1689789600-1689800400@telegraphdistrict.com
SUMMARY:Live @ Telegraph Summer Concert Series
DESCRIPTION:It’s a year of anniversaries\, so join us for a season of concerts on the patio! The Mill will be offering food and beverages\, including a new featured beer every week.
URL:https://telegraphdistrict.com/event/live-telegraph-summer-concert-series-7-19/
LOCATION:The Mill at Telegraph\, 330 S 21st St\, Lincoln\, NE\, 68510\, United States
END:VEVENT
BEGIN:VEVENT
DTSTART;TZID=America/Chicago:20230712T180000
DTEND;TZID=America/Chicago:20230712T210000
DTSTAMP:20260421T165706
CREATED:20230614T142140Z
LAST-MODIFIED:20230614T142229Z
UID:10000408-1689184800-1689195600@telegraphdistrict.com
SUMMARY:Live @ Telegraph Summer Concert Series
DESCRIPTION:It’s a year of anniversaries\, so join us for a season of concerts on the patio! The Mill will be offering food and beverages\, including a new featured beer every week.
URL:https://telegraphdistrict.com/event/live-telegraph-summer-concert-series-7-12/
LOCATION:The Mill at Telegraph\, 330 S 21st St\, Lincoln\, NE\, 68510\, United States
END:VEVENT
BEGIN:VEVENT
DTSTART;TZID=America/Chicago:20230705T180000
DTEND;TZID=America/Chicago:20230705T210000
DTSTAMP:20260421T165706
CREATED:20230614T141950Z
LAST-MODIFIED:20230614T141950Z
UID:10000407-1688580000-1688590800@telegraphdistrict.com
SUMMARY:Live @ Telegraph Summer Concert Series
DESCRIPTION:It’s a year of anniversaries\, so join us for a season of concerts on the patio! The Mill will be offering food and beverages\, including a new featured beer every week.
URL:https://telegraphdistrict.com/event/live-telegraph-summer-concert-series-7-5/
LOCATION:The Mill at Telegraph\, 330 S 21st St\, Lincoln\, NE\, 68510\, United States
END:VEVENT
BEGIN:VEVENT
DTSTART;TZID=America/Chicago:20230628T180000
DTEND;TZID=America/Chicago:20230628T210000
DTSTAMP:20260421T165706
CREATED:20230524T144340Z
LAST-MODIFIED:20230524T144613Z
UID:10000469-1687975200-1687986000@telegraphdistrict.com
SUMMARY:Live @ Telegraph Summer Concert Series
DESCRIPTION:It’s a year of anniversaries\, so join us for a season of concerts on the patio! The Mill will be offering food and beverages\, including a new featured beer every week.
URL:https://telegraphdistrict.com/event/live-telegraph-summer-concert-series-06-28/
LOCATION:The Mill at Telegraph\, 330 S 21st St\, Lincoln\, NE\, 68510\, United States
END:VEVENT
BEGIN:VEVENT
DTSTART;TZID=America/Chicago:20230621T180000
DTEND;TZID=America/Chicago:20230621T210000
DTSTAMP:20260421T165706
CREATED:20230524T144109Z
LAST-MODIFIED:20230524T144608Z
UID:10000468-1687370400-1687381200@telegraphdistrict.com
SUMMARY:Live @ Telegraph Summer Concert Series
DESCRIPTION:It’s a year of anniversaries\, so join us for a season of concerts on the patio! The Mill will be offering food and beverages\, including a new featured beer every week.
URL:https://telegraphdistrict.com/event/live-telegraph-summer-concert-series-06-21/
LOCATION:The Mill at Telegraph\, 330 S 21st St\, Lincoln\, NE\, 68510\, United States
END:VEVENT
BEGIN:VEVENT
DTSTART;TZID=America/Chicago:20230614T180000
DTEND;TZID=America/Chicago:20230614T210000
DTSTAMP:20260421T165706
CREATED:20230524T144017Z
LAST-MODIFIED:20230524T144604Z
UID:10000467-1686765600-1686776400@telegraphdistrict.com
SUMMARY:Live @ Telegraph Summer Concert Series
DESCRIPTION:It’s a year of anniversaries\, so join us for a season of concerts on the patio! The Mill will be offering food and beverages\, including a new featured beer every week.
URL:https://telegraphdistrict.com/event/live-telegraph-summer-concert-series-06-14/
LOCATION:The Mill at Telegraph\, 330 S 21st St\, Lincoln\, NE\, 68510\, United States
END:VEVENT
BEGIN:VEVENT
DTSTART;TZID=America/Chicago:20230607T180000
DTEND;TZID=America/Chicago:20230607T210000
DTSTAMP:20260421T165706
CREATED:20230524T143856Z
LAST-MODIFIED:20230524T144559Z
UID:10000466-1686160800-1686171600@telegraphdistrict.com
SUMMARY:Live @ Telegraph Summer Concert Series
DESCRIPTION:It’s a year of anniversaries\, so join us for a season of concerts on the patio! The Mill will be offering food and beverages\, including a new featured beer every week.
URL:https://telegraphdistrict.com/event/live-telegraph-summer-concert-series-06-07/
LOCATION:The Mill at Telegraph\, 330 S 21st St\, Lincoln\, NE\, 68510\, United States
END:VEVENT
BEGIN:VEVENT
DTSTART;TZID=America/Chicago:20230513T183000
DTEND;TZID=America/Chicago:20230513T200000
DTSTAMP:20260421T165706
CREATED:20230505T190252Z
LAST-MODIFIED:20230505T190252Z
UID:10000458-1684002600-1684008000@telegraphdistrict.com
SUMMARY:Lotus Vino + Flow at The Mill
DESCRIPTION:Join Megan Walker and Vanessa Wurtz as they guide you through a playful flow complete with breath work\, empowering movement\, deep stretching\, and glorious shavasana! We will be celebrating the sacred bond of friendship and pairing wine with movement.  \nRegister today!
URL:https://telegraphdistrict.com/event/lotus-vino-flow-at-the-mill/
LOCATION:The Mill at Telegraph\, 330 S 21st St\, Lincoln\, NE\, 68510\, United States
END:VEVENT
END:VCALENDAR